

BEGIN:VCALENDAR
VERSION:2.0
PRODID:-//Apprends et Rêve - ECPv6.15.20//NONSGML v1.0//EN
CALSCALE:GREGORIAN
METHOD:PUBLISH
X-WR-CALNAME:Apprends et Rêve
X-ORIGINAL-URL:https://apprends-et-reve.fr
X-WR-CALDESC:Évènements pour Apprends et Rêve
REFRESH-INTERVAL;VALUE=DURATION:PT1H
X-Robots-Tag:noindex
X-PUBLISHED-TTL:PT1H
BEGIN:VTIMEZONE
TZID:Europe/Paris
BEGIN:DAYLIGHT
TZOFFSETFROM:+0100
TZOFFSETTO:+0200
TZNAME:CEST
DTSTART:20250330T010000
END:DAYLIGHT
BEGIN:STANDARD
TZOFFSETFROM:+0200
TZOFFSETTO:+0100
TZNAME:CET
DTSTART:20251026T010000
END:STANDARD
BEGIN:DAYLIGHT
TZOFFSETFROM:+0100
TZOFFSETTO:+0200
TZNAME:CEST
DTSTART:20260329T010000
END:DAYLIGHT
BEGIN:STANDARD
TZOFFSETFROM:+0200
TZOFFSETTO:+0100
TZNAME:CET
DTSTART:20261025T010000
END:STANDARD
BEGIN:DAYLIGHT
TZOFFSETFROM:+0100
TZOFFSETTO:+0200
TZNAME:CEST
DTSTART:20270328T010000
END:DAYLIGHT
BEGIN:STANDARD
TZOFFSETFROM:+0200
TZOFFSETTO:+0100
TZNAME:CET
DTSTART:20271031T010000
END:STANDARD
END:VTIMEZONE
BEGIN:VEVENT
DTSTART;TZID=Europe/Paris:20260427T181500
DTEND;TZID=Europe/Paris:20260427T194500
DTSTAMP:20260425T185430
CREATED:20201127T095559Z
LAST-MODIFIED:20260204T103018Z
UID:10021563-1777313700-1777319100@apprends-et-reve.fr
SUMMARY:Comédie musicale: Du rêve à la scène … en chantant en anglais
DESCRIPTION:Autour de la chant\, de la musique\, de la danse et du théâtre\, les adolescents découvriront l’anglais\, mais pas que… Le travail sur le corps et la voix donne l’opportunité de mieux se connaître\, de gagner de la confiance en soi et communiquer avec son âme créative. \nLes ados apprendront une chorégraphie\, mais surtout à chanter et danser dans un ensemble. Tous en même temps chantant la même partition\, dansant la même chorégraphie et racontant la même histoire. Telle est la force de la comédie musicale. \nCet atelier est dirigé par trois grands professionnels: Stephy Haïk (chant)\, Ivan Gonzalez ( théâtre) et Tim Path (danse et piano).
URL:https://apprends-et-reve.fr/activite/du-reve-a-la-scene-en-chantant-en-anglais-2/2026-04-27/
LOCATION:Apprends et rêve\, 69\, rue de l’Assomption\, Paris\, 75016\, France
CATEGORIES:Anglais,Comédie musicale,Musique / son,Théâtre
ATTACH;FMTTYPE=image/jpeg:https://apprends-et-reve.fr/wp-content/uploads/2020/11/AR-gala2019-1ComMus_7_12.jpg
GEO:48.8536915;2.2782619
X-APPLE-STRUCTURED-LOCATION;VALUE=URI;X-ADDRESS=Apprends et rêve 69 rue de l’Assomption Paris 75016 France;X-APPLE-RADIUS=500;X-TITLE=69\, rue de l’Assomption:geo:2.2782619,48.8536915
END:VEVENT
BEGIN:VEVENT
DTSTART;TZID=Europe/Paris:20260428T150000
DTEND;TZID=Europe/Paris:20260428T164500
DTSTAMP:20260425T185430
CREATED:20201124T160342Z
LAST-MODIFIED:20250502T133632Z
UID:10011400-1777388400-1777394700@apprends-et-reve.fr
SUMMARY:Théâtre en anglais: parler pour jouer/ speak to act
DESCRIPTION:Apprendre l’anglais\, c’est bien. Savoir le parler\, c’est mieux. Et quoi de mieux que le théâtre pour atteindre ce but ? Avec Ruthie\, comédienne américaine\, les enfants pratiqueront la langue de Shakespeare tout en mobilisant des personnages et un vocabulaire spécifique à la scène : l’idéal pour améliorer son anglais tout en développant son imagination. Tout au long de l’année\, l’objectif reste le même : permettre à chaque enfant de développer son imaginaire\, son jeu d’acteur surtout sa confiance en lui\, tout en s’appropriant le plus facilement possible la langue anglaise. \nCet atelier est destiné aux enfants ayant déjà des notions d’anglais. \nCet atelier est un parfait complément aux ateliers d’apprentissage de l’anglais autour de la méthode Cambridge proposés par Marjorie le mercredi après-midi.
URL:https://apprends-et-reve.fr/activite/ris/2026-04-28/
LOCATION:Apprends et rêve\, 69\, rue de l’Assomption\, Paris\, 75016\, France
CATEGORIES:Anglais,Théâtre,Théâtre en anglais
ATTACH;FMTTYPE=image/jpeg:https://apprends-et-reve.fr/wp-content/uploads/2020/11/theatre-anglais-enfants-Depositphotos_34989741_s-2019.jpg
GEO:48.8536915;2.2782619
X-APPLE-STRUCTURED-LOCATION;VALUE=URI;X-ADDRESS=Apprends et rêve 69 rue de l’Assomption Paris 75016 France;X-APPLE-RADIUS=500;X-TITLE=69\, rue de l’Assomption:geo:2.2782619,48.8536915
END:VEVENT
BEGIN:VEVENT
DTSTART;TZID=Europe/Paris:20260428T150000
DTEND;TZID=Europe/Paris:20260428T164500
DTSTAMP:20260425T185430
CREATED:20210512T160308Z
LAST-MODIFIED:20250522T143605Z
UID:10012913-1777388400-1777394700@apprends-et-reve.fr
SUMMARY:Apprentissage de l'anglais pour les 5-8 ans
DESCRIPTION:POUR LES ENFANTS ÂGÉS DE 5 À 8 ANS \nMusique\, jeu\, dessin\, jeux de rôle\, découpage\, chant… tous les moyens et jeux sont bons pour faire découvrir et apprendre l’anglais. Grâce à Ariel\, professeure américaine\, la langue de Shakespeare n’aura plus de secrets pour vos petites têtes blondes. \nCar transmettre sa langue maternelle est une vraie passion pour Ariel. Tout comme créer des liens avec les enfants\, savoir les passionner\, les faire participer\, les faire communiquer. \nEn s’appuyant sur la méthode de Cambridge\, cet atelier préparera vos enfants au « Young learners Cambridge exam ».
URL:https://apprends-et-reve.fr/activite/baby-english-decouverte-de-langlais-pour-les-4-5-ans-2/2026-04-28/
LOCATION:Apprends et rêve\, 69\, rue de l’Assomption\, Paris\, 75016\, France
CATEGORIES:Anglais,Initiation à l'anglais
ATTACH;FMTTYPE=image/jpeg:https://apprends-et-reve.fr/wp-content/uploads/2021/04/americain-anglais-exterieur-Depositphotos_148058757_s-2019.jpg
GEO:48.8536915;2.2782619
X-APPLE-STRUCTURED-LOCATION;VALUE=URI;X-ADDRESS=Apprends et rêve 69 rue de l’Assomption Paris 75016 France;X-APPLE-RADIUS=500;X-TITLE=69\, rue de l’Assomption:geo:2.2782619,48.8536915
END:VEVENT
BEGIN:VEVENT
DTSTART;TZID=Europe/Paris:20260429T093000
DTEND;TZID=Europe/Paris:20260429T103000
DTSTAMP:20260425T185430
CREATED:20250514T131416Z
LAST-MODIFIED:20250514T154546Z
UID:10017636-1777455000-1777458600@apprends-et-reve.fr
SUMMARY:Apprendre l’anglais en dessinant pour les 5-7 ans
DESCRIPTION:Au cours de cet atelier\, les enfants révéleront leur talent d’artiste\, tout en apprenant l’anglais. \nCar apprendre l’anglais peut parfois être un peu rebutant pour nos chères têtes blondes. \nAvec cet atelier\, parler anglais leur paraîtra juste… normal. \nLa professeur\, à la fois artiste et professeur d’anglais\, leur parlera uniquement dans la langue de Shakespeare … d’art et d’artistes\, des couleurs\, des techniques\, des courants artistiques… Bref\, ils mettront en couleur et dessin tout ce qu’ils auront compris et ressenti. \n 
URL:https://apprends-et-reve.fr/activite/apprendre-langlais-en-dessinant-pour-les-5-7-ans-2/2026-04-29/
LOCATION:TEP Sarrail\, 8 Avenue du Général Sarrail\, Paris\, 75016\, France
CATEGORIES:Anglais
ATTACH;FMTTYPE=image/jpeg:https://apprends-et-reve.fr/wp-content/uploads/2022/03/Art-et-anglais-3.jpg
GEO:48.8457833;2.2559899
X-APPLE-STRUCTURED-LOCATION;VALUE=URI;X-ADDRESS=TEP Sarrail 8 Avenue du Général Sarrail Paris 75016 France;X-APPLE-RADIUS=500;X-TITLE=8 Avenue du Général Sarrail:geo:2.2559899,48.8457833
END:VEVENT
BEGIN:VEVENT
DTSTART;TZID=Europe/Paris:20260429T094500
DTEND;TZID=Europe/Paris:20260429T110000
DTSTAMP:20260425T185430
CREATED:20250516T093153Z
LAST-MODIFIED:20250522T135423Z
UID:10019214-1777455900-1777460400@apprends-et-reve.fr
SUMMARY:Speak to act: l'anglais\, un vrai jeu
DESCRIPTION:Progresser en anglais\, c’est bien. Le parler\, c’est encore mieux! Quoi de mieux que le théâtre pour atteindre cet objectif ?\nAnne\, enseignante\, comédienne et scénariste\, dirige chaque semaine un cours de théâtre en anglais pour permettre aux enfants de progresser\, chacun à son niveau\, tout en s’amusant : développement du vocabulaire\, mobilisation de verbes et de phrases complètes à travers les personnages incarnés\, description de son environnement…\nChaque enfant est amené à développer\, à chaque cours\, son jeu d’acteur\, sa confiance en soi\, son imaginaire ; le tout en progressant chaque semaine en anglais\, grâce à un programme basé sur un langage de plus en plus riche. \nCet atelier est destiné aux enfants ayant déjà des notions d’anglais. \nCet atelier est un parfait complément aux ateliers d’apprentissage de l’anglais autour de la méthode Cambridge proposés par Ang le mercredi après-midi.
URL:https://apprends-et-reve.fr/activite/speak-to-act-langlais-un-vrai-jeu/2026-04-29/
LOCATION:Apprends et rêve\, 69\, rue de l’Assomption\, Paris\, 75016\, France
CATEGORIES:Anglais,Théâtre,Théâtre en anglais
ATTACH;FMTTYPE=image/jpeg:https://apprends-et-reve.fr/wp-content/uploads/2020/11/theatre-anglais-enfant.jpg
GEO:48.8536915;2.2782619
X-APPLE-STRUCTURED-LOCATION;VALUE=URI;X-ADDRESS=Apprends et rêve 69 rue de l’Assomption Paris 75016 France;X-APPLE-RADIUS=500;X-TITLE=69\, rue de l’Assomption:geo:2.2782619,48.8536915
END:VEVENT
BEGIN:VEVENT
DTSTART;TZID=Europe/Paris:20260429T103000
DTEND;TZID=Europe/Paris:20260429T113000
DTSTAMP:20260425T185430
CREATED:20250506T090705Z
LAST-MODIFIED:20250506T090705Z
UID:10016522-1777458600-1777462200@apprends-et-reve.fr
SUMMARY:Dessiner et parler anglais\, dès 3 ans
DESCRIPTION:Au cours de cet atelier\, les enfants révéleront leur talent d’artiste\, tout en apprenant l’anglais. \nCar apprendre l’anglais peut parfois être un peu rebutant pour nos chères têtes blondes. \nAvec cet atelier\, parler anglais leur paraîtra juste… normal. \nLa professeur\, à la fois artiste et professeur d’anglais\, leur parlera uniquement dans la langue de Shakespeare … d’art et d’artistes\, des couleurs\, des techniques\, des courants artistiques… Bref\, les enfants mettront en couleur et dessin tout ce qu’ils auront compris et ressenti.
URL:https://apprends-et-reve.fr/activite/dessiner-et-parler-anglais-des-3-ans-2/2026-04-29/
LOCATION:TEP Sarrail\, 8 Avenue du Général Sarrail\, Paris\, 75016\, France
CATEGORIES:Anglais
ATTACH;FMTTYPE=image/jpeg:https://apprends-et-reve.fr/wp-content/uploads/2021/03/easy-anglais-Depositphotos_87830304_s-2019.jpg
GEO:48.8457833;2.2559899
X-APPLE-STRUCTURED-LOCATION;VALUE=URI;X-ADDRESS=TEP Sarrail 8 Avenue du Général Sarrail Paris 75016 France;X-APPLE-RADIUS=500;X-TITLE=8 Avenue du Général Sarrail:geo:2.2559899,48.8457833
END:VEVENT
BEGIN:VEVENT
DTSTART;TZID=Europe/Paris:20260429T110000
DTEND;TZID=Europe/Paris:20260429T121500
DTSTAMP:20260425T185430
CREATED:20250514T155826Z
LAST-MODIFIED:20250523T133452Z
UID:10021108-1777460400-1777464900@apprends-et-reve.fr
SUMMARY:Faire du théâtre en anglais
DESCRIPTION:Connaître l’anglais\, c’est bien. Le parler tout en incarnant un personnage\, c’est mieux. \nAvec cet atelier\, les enfants et adolescents parlant déjà anglais pourront à la fois pratiquer la langue de Shakespeare et améliorer leur vocabulaire et accent\, mais aussi pratiquer le théâtre avec Anne\, comédienne\, scénariste et réalisatrice. \nL’idéal pour apprendre tout en développant son imagination\, sa présence sur scène et devant et caméra ainsi que son charisme. \nTout au long de l’année\, l’objectif reste le même : permettre à chaque enfant et ado de développer son imaginaire\, son jeu d’acteur surtout sa confiance en lui\, tout en s’appropriant le plus facilement possible la langue anglaise. \nLes ateliers s’articulent autour de jeux basés sur l’improvisation\, la voix\, le travail sur le corps\, la respiration et l’imagination. Ils permettront aux enfants de développer\, en s’amusant\, leur vocabulaire en langue anglaise. L’interprétation de personnages lors de courtes scènes sera également une partie intégrante du cours. \nCet atelier réuni des enfants et adolescents de même niveau en anglais.
URL:https://apprends-et-reve.fr/activite/faire-du-theatre-en-anglais/2026-04-29/
LOCATION:Apprends et rêve\, 69\, rue de l’Assomption\, Paris\, 75016\, France
CATEGORIES:Anglais,Théâtre,Théâtre en anglais
ATTACH;FMTTYPE=image/jpeg:https://apprends-et-reve.fr/wp-content/uploads/2020/11/theatre-anglais-enfant.jpg
GEO:48.8536915;2.2782619
X-APPLE-STRUCTURED-LOCATION;VALUE=URI;X-ADDRESS=Apprends et rêve 69 rue de l’Assomption Paris 75016 France;X-APPLE-RADIUS=500;X-TITLE=69\, rue de l’Assomption:geo:2.2782619,48.8536915
END:VEVENT
BEGIN:VEVENT
DTSTART;TZID=Europe/Paris:20260429T113000
DTEND;TZID=Europe/Paris:20260429T123000
DTSTAMP:20260425T185430
CREATED:20250505T163521Z
LAST-MODIFIED:20250505T163521Z
UID:10016402-1777462200-1777465800@apprends-et-reve.fr
SUMMARY:Pratiquer son anglais en apprenant à devenir un artiste
DESCRIPTION:Avec cet atelier\, les enfants vont découvrir les artistes et les mouvements artistiques afin de s’en inspirer pour créer son univers personnel\, le plus étendu et le plus riche possible. \nLa professeur\, à la fois artiste et professeur d’anglais\, leur parlera uniquement dans la langue de Shakespeare … d’art et d’artistes\, des couleurs\, des techniques\, des courants artistiques… \nAinsi\, ils apprendront l’anglais (presque) sans s’en rendre compte. \nEn plus d’apprendre à dessiner\, ils seront incités à laisser voguer leur imagination. Ils vont travailler des matériaux aussi divers que la terre\, le fil de fer\, le tissu\, le carton\, le papier\, de la mosaïque\, la laine\, la mousse expansive… Ils utiliseront crayons papier\, crayons de couleur\, feutres\, peinture. Ils découperont\, colleront\, agraferont\, plieront…et seront des artistes à part entière\, mais toujours en anglais.
URL:https://apprends-et-reve.fr/activite/pratiquer-son-anglais-en-apprenant-a-devenir-un-artiste-2/2026-04-29/
LOCATION:TEP Sarrail\, 8 Avenue du Général Sarrail\, Paris\, 75016\, France
CATEGORIES:Anglais
ATTACH;FMTTYPE=image/jpeg:https://apprends-et-reve.fr/wp-content/uploads/2022/03/Art-et-anglais-1.jpg
GEO:48.8457833;2.2559899
X-APPLE-STRUCTURED-LOCATION;VALUE=URI;X-ADDRESS=TEP Sarrail 8 Avenue du Général Sarrail Paris 75016 France;X-APPLE-RADIUS=500;X-TITLE=8 Avenue du Général Sarrail:geo:2.2559899,48.8457833
END:VEVENT
BEGIN:VEVENT
DTSTART;TZID=Europe/Paris:20260429T140000
DTEND;TZID=Europe/Paris:20260429T153000
DTSTAMP:20260425T185430
CREATED:20250505T140820Z
LAST-MODIFIED:20250505T140820Z
UID:10016002-1777471200-1777476600@apprends-et-reve.fr
SUMMARY:Let’s learn english! Pour les 6-8 ans
DESCRIPTION:POUR LES ENFANTS ÂGÉS DE 6 À 8 ANS \nMusique\, jeu\, dessin\, jeux de rôle\, découpage\, chant… tous les moyens sont bons pour faire découvrir et apprendre l’anglais. Grâce à Ang\, professeur américain ayant longtemps enseigné l’anglais aux enfants aussi bien en Chine qu’en Italie\, la langue de Shakespeare n’aura plus de secrets pour vos chères têtes blondes. \nCar transmettre sa langue maternelle est une vraie passion pour Ang. Tout comme créer des liens avec les enfants\, savoir les passionner\, les faire participer\, les faire communiquer. \nEn s’appuyant sur la méthode de Cambridge\, cet atelier préparera vos enfants à passer\, s’ils le souhaitent\, « The young learners Cambridge exam ». \nCet atelier est le parfait complément à l’atelier de Théâtre en anglais proposé le mardi après-midi ou le mercredi matin: \nhttps://apprends-et-reve.fr/activite/ris/2021-09-21/ \nhttps://apprends-et-reve.fr/activite/parler-pour-jouer-4/2021-09-22/
URL:https://apprends-et-reve.fr/activite/lets-learn-english-pour-les-6-8-ans-2/2026-04-29/
LOCATION:TEP Sarrail\, 8 Avenue du Général Sarrail\, Paris\, 75016\, France
CATEGORIES:Anglais,Initiation à l'anglais
ATTACH;FMTTYPE=image/jpeg:https://apprends-et-reve.fr/wp-content/uploads/2021/04/americain-anglais-exterieurDepositphotos_101992770_s-2019.jpg
GEO:48.8457833;2.2559899
X-APPLE-STRUCTURED-LOCATION;VALUE=URI;X-ADDRESS=TEP Sarrail 8 Avenue du Général Sarrail Paris 75016 France;X-APPLE-RADIUS=500;X-TITLE=8 Avenue du Général Sarrail:geo:2.2559899,48.8457833
END:VEVENT
BEGIN:VEVENT
DTSTART;TZID=Europe/Paris:20260429T153000
DTEND;TZID=Europe/Paris:20260429T170000
DTSTAMP:20260425T185430
CREATED:20250505T161411Z
LAST-MODIFIED:20250522T150618Z
UID:10016322-1777476600-1777482000@apprends-et-reve.fr
SUMMARY:Baby english: découverte de l'anglais pour les 4-5 ans
DESCRIPTION:POUR LES ENFANTS ÂGÉS DE 4 À 5 ANS \nMusique\, jeu\, dessin\, jeux de rôle\, découpage\, chant… tous les moyens sont bons pour faire découvrir et apprendre l’anglais. Grâce à Ang\, professeur américain ayant longtemps enseigné l’anglais aux enfants aussi bien en Chine qu’en Italie\, la langue de Shakespeare n’aura plus de secrets pour vos petites têtes blondes. \nCar transmettre sa langue maternelle est une vraie passion pour Ang. Tout comme créer des liens avec les enfants\, savoir les passionner\, les faire participer\, les faire communiquer. \nEn s’appuyant sur la méthode de Cambridge\, cet atelier préparera vos enfants au « Young learners Cambridge exam ».
URL:https://apprends-et-reve.fr/activite/baby-english-decouverte-de-langlais-pour-les-4-5-ans-3/2026-04-29/
LOCATION:TEP Sarrail\, 8 Avenue du Général Sarrail\, Paris\, 75016\, France
CATEGORIES:Anglais,Initiation à l'anglais
ATTACH;FMTTYPE=image/jpeg:https://apprends-et-reve.fr/wp-content/uploads/2021/04/garcon-drapeau-anglais-Depositphotos_3696411_s-2019.jpg
GEO:48.8457833;2.2559899
X-APPLE-STRUCTURED-LOCATION;VALUE=URI;X-ADDRESS=TEP Sarrail 8 Avenue du Général Sarrail Paris 75016 France;X-APPLE-RADIUS=500;X-TITLE=8 Avenue du Général Sarrail:geo:2.2559899,48.8457833
END:VEVENT
BEGIN:VEVENT
DTSTART;TZID=Europe/Paris:20260430T170000
DTEND;TZID=Europe/Paris:20260430T181500
DTSTAMP:20260425T185430
CREATED:20230515T005056Z
LAST-MODIFIED:20250506T110204Z
UID:10015330-1777568400-1777572900@apprends-et-reve.fr
SUMMARY:Let’s learn english! Pour les 6-9 ans
DESCRIPTION:POUR LES ENFANTS ÂGÉS DE 6 À 9 ANS \nMusique\, jeu\, dessin\, jeux de rôle\, découpage\, chant… tous les moyens sont bons pour faire découvrir et apprendre l’anglais. Grâce à Ariel\, professeur américain\, la langue de Shakespeare n’aura plus de secrets pour vos chères têtes blondes. \nCar transmettre sa langue maternelle est une vraie passion pour Ariel. Tout comme créer des liens avec les enfants\, savoir les passionner\, les faire participer\, les faire communiquer. \nEn s’appuyant sur la méthode de Cambridge\, cet atelier préparera vos enfants à passer\, s’ils le souhaitent\, « The young learners Cambridge exam ». \nCet atelier est le parfait complément à l’atelier de Théâtre en anglais proposé le mardi après-midi ou le mercredi matin: \nhttps://apprends-et-reve.fr/activite/ris/2021-09-21/ \nhttps://apprends-et-reve.fr/activite/parler-pour-jouer-4/2021-09-22/
URL:https://apprends-et-reve.fr/activite/lets-learn-english-pour-les-6-8-ans/2026-04-30/
LOCATION:Apprends et rêve\, 69\, rue de l’Assomption\, Paris\, 75016\, France
CATEGORIES:Anglais,Initiation à l'anglais
ATTACH;FMTTYPE=image/jpeg:https://apprends-et-reve.fr/wp-content/uploads/2021/04/americain-anglais-exterieurDepositphotos_101992770_s-2019.jpg
GEO:48.8536915;2.2782619
X-APPLE-STRUCTURED-LOCATION;VALUE=URI;X-ADDRESS=Apprends et rêve 69 rue de l’Assomption Paris 75016 France;X-APPLE-RADIUS=500;X-TITLE=69\, rue de l’Assomption:geo:2.2782619,48.8536915
END:VEVENT
BEGIN:VEVENT
DTSTART;TZID=Europe/Paris:20260502T100000
DTEND;TZID=Europe/Paris:20260502T110000
DTSTAMP:20260425T185430
CREATED:20220520T083349Z
LAST-MODIFIED:20250509T092658Z
UID:10010432-1777716000-1777719600@apprends-et-reve.fr
SUMMARY:Anglais et créativité: dessiner mais... dans la langue de Shakespeare!
DESCRIPTION:UNIQUEMENT POUR LES ENFANTS ÂGÉS DE 5 à 7 ANS \nAu cours de cet atelier\, les enfants révéleront leur talent d’artiste\, tout en apprenant l’anglais. \nCar apprendre l’anglais peut parfois être un peu rebutant pour nos chères têtes blondes. \nAvec cet atelier\, parler anglais leur paraîtra juste… normal. \nLa professeur\, à la fois artiste et professeur d’anglais\, leur parlera uniquement dans la langue de Shakespeare … d’art et d’artistes\, des couleurs\, des techniques\, des courants artistiques… \nIls pourront alors coucher sur le papier tout ce que ces discussions leur auront inspirés. \n 
URL:https://apprends-et-reve.fr/activite/22741/2026-05-02/
LOCATION:TEP Sarrail\, 8 Avenue du Général Sarrail\, Paris\, 75016\, France
CATEGORIES:Anglais
ATTACH;FMTTYPE=image/jpeg:https://apprends-et-reve.fr/wp-content/uploads/2022/05/art-anglais-Depositphotos_136315206_S.jpg
GEO:48.8457833;2.2559899
X-APPLE-STRUCTURED-LOCATION;VALUE=URI;X-ADDRESS=TEP Sarrail 8 Avenue du Général Sarrail Paris 75016 France;X-APPLE-RADIUS=500;X-TITLE=8 Avenue du Général Sarrail:geo:2.2559899,48.8457833
END:VEVENT
BEGIN:VEVENT
DTSTART;TZID=Europe/Paris:20260502T103000
DTEND;TZID=Europe/Paris:20260502T114500
DTSTAMP:20260425T185430
CREATED:20201228T211429Z
LAST-MODIFIED:20250526T094320Z
UID:10020679-1777717800-1777722300@apprends-et-reve.fr
SUMMARY:Théâtre en anglais – Jouer pour parler
DESCRIPTION:Apprendre l’anglais\, c’est bien. Savoir le parler\, c’est mieux. Et quoi de mieux que le théâtre pour atteindre ce but ? Avec Anne\, comédienne\, actrice et scénariste\, les ados pratiqueront l’anglais dans un contexte\, celui de la scène qu’ils répètent\, celui du jeu. Chaque scène aura pour but de leur faire découvrir un univers et le vocabulaire lié. Mais pour communiquer\, il faut faire des phrases. Sans s’en rendre compte\, les ados considéreront l’anglais non plus comme des mots et un vocabulaire à savoir\, mais comme une façon de parler ensemble.
URL:https://apprends-et-reve.fr/activite/theatre-en-anglais-jouer-pour-parler-2/2026-05-02/
LOCATION:Apprends et rêve\, 69\, rue de l’Assomption\, Paris\, 75016\, France
CATEGORIES:Anglais,Théâtre,Théâtre en anglais
ATTACH;FMTTYPE=image/jpeg:https://apprends-et-reve.fr/wp-content/uploads/2017/01/Gala-2016-456-e1489517614832-scaled.jpg
GEO:48.8536915;2.2782619
X-APPLE-STRUCTURED-LOCATION;VALUE=URI;X-ADDRESS=Apprends et rêve 69 rue de l’Assomption Paris 75016 France;X-APPLE-RADIUS=500;X-TITLE=69\, rue de l’Assomption:geo:2.2782619,48.8536915
END:VEVENT
BEGIN:VEVENT
DTSTART;TZID=Europe/Paris:20260502T103000
DTEND;TZID=Europe/Paris:20260502T114500
DTSTAMP:20260425T185430
CREATED:20210424T175001Z
LAST-MODIFIED:20250911T144516Z
UID:10021624-1777717800-1777722300@apprends-et-reve.fr
SUMMARY:Théâtre en anglais – Jouer pour parler
DESCRIPTION:Apprendre l’anglais\, c’est bien. Savoir le parler\, c’est mieux. Et quoi de mieux que le théâtre pour atteindre ce but ? Avec Anne\, comédienne\, actrice et scénariste\, les ados pratiqueront l’anglais dans un contexte\, celui de la scène qu’ils répètent\, celui du jeu. \nProgresser en anglais\, c’est bien. Le parler\, c’est encore mieux! Quoi de mieux que le théâtre pour atteindre cet objectif ?\nAnne\, enseignante\, comédienne et scénariste\, dirige chaque semaine un cours de théâtre en anglais pour permettre aux ados de progresser et améliorer son accent tout en développant du vocabulaire\, utilisant des verbes et phrases complètes à travers les personnages incarnés\, en décrivant son environnement… \nCet atelier est également destiné aux ados ayant déjà une bonne connaissance de la langue anglaise. Il leur permettra de continuer à pratiquer\, d’améliorer leur accent et tournures de phrases. Et\, plus que tout\, il leur donnera la possibilité de jouer un rôle et développer sa technique de théâtre. \nChaque ado est amené à développer\, à chaque cours\, son jeu d’acteur\, sa confiance en soi\, sa prise de parole ; le tout en progressant chaque semaine en anglais\, grâce à un programme basé sur un langage de plus en plus riche. \nChaque scène aura pour but de leur faire découvrir un univers et le vocabulaire lié. Sans s’en rendre compte\, les ados considéreront l’anglais non plus comme des mots et un vocabulaire à savoir\, mais comme une façon de parler ensemble.
URL:https://apprends-et-reve.fr/activite/theatre-en-anglais-jouer-pour-parler-3/2026-05-02/
LOCATION:Apprends et rêve\, 69\, rue de l’Assomption\, Paris\, 75016\, France
CATEGORIES:Anglais,Théâtre en anglais
ATTACH;FMTTYPE=image/jpeg:https://apprends-et-reve.fr/wp-content/uploads/2020/11/harry-potter-enfant-maudit-albus.jpg
GEO:48.8536915;2.2782619
X-APPLE-STRUCTURED-LOCATION;VALUE=URI;X-ADDRESS=Apprends et rêve 69 rue de l’Assomption Paris 75016 France;X-APPLE-RADIUS=500;X-TITLE=69\, rue de l’Assomption:geo:2.2782619,48.8536915
END:VEVENT
BEGIN:VEVENT
DTSTART;TZID=Europe/Paris:20260502T110000
DTEND;TZID=Europe/Paris:20260502T120000
DTSTAMP:20260425T185430
CREATED:20220520T091001Z
LAST-MODIFIED:20250509T085707Z
UID:10010724-1777719600-1777723200@apprends-et-reve.fr
SUMMARY:Anglais et créativité: Révéler ses talents d'artiste... en anglais\, pour les 3-5 ans
DESCRIPTION:Au cours de cet atelier\, les enfants révéleront leur talent d’artiste\, tout en apprenant et parlant l’anglais. \nCar apprendre l’anglais peut parfois être un peu rebutant pour nos chères têtes blondes. \nAvec cet atelier\, parler anglais leur paraîtra juste… normal. \nLa professeur\, à la fois artiste et professeur d’anglais\, leur parlera uniquement dans la langue de Shakespeare … d’art et d’artistes\, des couleurs\, des techniques\, des courants artistiques… \nBref\, les enfants mettront en couleur et dessin tout ce qu’ils auront compris et ressenti.
URL:https://apprends-et-reve.fr/activite/anglais-et-creativite-reveler-ses-talents-dartiste-en-anglais/2026-05-02/
LOCATION:TEP Sarrail\, 8 Avenue du Général Sarrail\, Paris\, 75016\, France
CATEGORIES:Anglais
ATTACH;FMTTYPE=image/jpeg:https://apprends-et-reve.fr/wp-content/uploads/2022/05/art-anglais-Depositphotos_347996906_S.jpg
GEO:48.8457833;2.2559899
X-APPLE-STRUCTURED-LOCATION;VALUE=URI;X-ADDRESS=TEP Sarrail 8 Avenue du Général Sarrail Paris 75016 France;X-APPLE-RADIUS=500;X-TITLE=8 Avenue du Général Sarrail:geo:2.2559899,48.8457833
END:VEVENT
END:VCALENDAR