

BEGIN:VCALENDAR
VERSION:2.0
PRODID:-//Apprends et Rêve - ECPv6.15.20//NONSGML v1.0//EN
CALSCALE:GREGORIAN
METHOD:PUBLISH
X-WR-CALNAME:Apprends et Rêve
X-ORIGINAL-URL:https://apprends-et-reve.fr
X-WR-CALDESC:Évènements pour Apprends et Rêve
REFRESH-INTERVAL;VALUE=DURATION:PT1H
X-Robots-Tag:noindex
X-PUBLISHED-TTL:PT1H
BEGIN:VTIMEZONE
TZID:Europe/Paris
BEGIN:DAYLIGHT
TZOFFSETFROM:+0100
TZOFFSETTO:+0200
TZNAME:CEST
DTSTART:20250330T010000
END:DAYLIGHT
BEGIN:STANDARD
TZOFFSETFROM:+0200
TZOFFSETTO:+0100
TZNAME:CET
DTSTART:20251026T010000
END:STANDARD
BEGIN:DAYLIGHT
TZOFFSETFROM:+0100
TZOFFSETTO:+0200
TZNAME:CEST
DTSTART:20260329T010000
END:DAYLIGHT
BEGIN:STANDARD
TZOFFSETFROM:+0200
TZOFFSETTO:+0100
TZNAME:CET
DTSTART:20261025T010000
END:STANDARD
BEGIN:DAYLIGHT
TZOFFSETFROM:+0100
TZOFFSETTO:+0200
TZNAME:CEST
DTSTART:20270328T010000
END:DAYLIGHT
BEGIN:STANDARD
TZOFFSETFROM:+0200
TZOFFSETTO:+0100
TZNAME:CET
DTSTART:20271031T010000
END:STANDARD
END:VTIMEZONE
BEGIN:VEVENT
DTSTART;TZID=Europe/Paris:20260427T133000
DTEND;TZID=Europe/Paris:20260430T163000
DTSTAMP:20260425T185000
CREATED:20250424T163345Z
LAST-MODIFIED:20260331T092819Z
UID:10015092-1777296600-1777566600@apprends-et-reve.fr
SUMMARY:🎥 Cinéma pour les ados
DESCRIPTION: Au cours de ce stage\, les ados vont réaliser un court-métrage collectivement. Ils vont s’initier à la réalisation et au montage vidéo et vont découvrir le vocabulaire du cinéma et comprendre la réalisation d’un film. Ils vont commencer par créer une histoire et élaborer un scénario\, à partir duquel ils vont créer un « story-board ». Place ensuite au tournage : les ados se font acteurs\, preneurs de sons\, régisseur lumières…  \nUne fois la « mise en boîte » terminée\, les ados s’initieront au montage. Ils regarderont les «rushs»\, «couperont» les «plans»\, les «organiseront»\, ajouteront une «bande-son» et un «générique» et réaliseront l’affiche de leur court-métrage.  
URL:https://apprends-et-reve.fr/activite/cinema-en-anglais-once-upon-a-time-in-hollywood-immersion-en-anglais-2/
LOCATION:Apprends et rêve\, 69\, rue de l’Assomption\, Paris\, 75016\, France
CATEGORIES:Arts visuels,Cinéma / vidéo
ATTACH;FMTTYPE=image/jpeg:https://apprends-et-reve.fr/wp-content/uploads/2025/04/cinema-ados.jpeg
GEO:48.8536915;2.2782619
X-APPLE-STRUCTURED-LOCATION;VALUE=URI;X-ADDRESS=Apprends et rêve 69 rue de l’Assomption Paris 75016 France;X-APPLE-RADIUS=500;X-TITLE=69\, rue de l’Assomption:geo:2.2782619,48.8536915
END:VEVENT
BEGIN:VEVENT
DTSTART;TZID=Europe/Paris:20260427T133000
DTEND;TZID=Europe/Paris:20260430T163000
DTSTAMP:20260425T185000
CREATED:20260316T134614Z
LAST-MODIFIED:20260331T092712Z
UID:10021909-1777296600-1777566600@apprends-et-reve.fr
SUMMARY:🎬 Cinéma pour les 7-11 ans
DESCRIPTION:Silence… moteur… action ! Les enfants découvrent l’univers du cinéma en explorant les différents rôles : acteur\, réalisateur\, scénariste ou cadreur. À travers de petites scènes filmées\, ils apprennent les bases du jeu face caméra\, de la mise en scène et du storytelling. Un atelier ludique pour développer créativité\, expression et esprit d’équipe. 
URL:https://apprends-et-reve.fr/activite/%f0%9f%8e%ac-cinema-pour-les-7-11-ans/
LOCATION:Apprends et rêve\, 69\, rue de l’Assomption\, Paris\, 75016\, France
CATEGORIES:Cinéma / vidéo
ATTACH;FMTTYPE=image/jpeg:https://apprends-et-reve.fr/wp-content/uploads/2026/03/cinema-7-11-ans-.jpeg
GEO:48.8536915;2.2782619
X-APPLE-STRUCTURED-LOCATION;VALUE=URI;X-ADDRESS=Apprends et rêve 69 rue de l’Assomption Paris 75016 France;X-APPLE-RADIUS=500;X-TITLE=69\, rue de l’Assomption:geo:2.2782619,48.8536915
END:VEVENT
BEGIN:VEVENT
DTSTART;TZID=Europe/Paris:20260429T140000
DTEND;TZID=Europe/Paris:20260429T153000
DTSTAMP:20260425T185000
CREATED:20250515T224807Z
LAST-MODIFIED:20250523T122903Z
UID:10020874-1777471200-1777476600@apprends-et-reve.fr
SUMMARY:Fais ton cinéma!
DESCRIPTION:Notre atelier propose aux enfants de découvrir toutes les facettes de la conception d’un film en réalisant eux-mêmes un long/court métrage grâce à l’aide d’un réalisateur de métier qui leur apportera les meilleurs éclairages pour leur réalisation. \nRéaliser un court-métrage ou un film\, c’est imaginer un synopsis\, faire des repérages\, dessiner un storyboard\, écrire des dialogues\, faire répéter les acteurs\, trouver les bons cadrages\, tourner puis monter les rushs. Sans oublier la possibilité d’importer des images pour les insérer ou encore apprendre à faire des retouches. De quoi avoir une vision globale du « making of » et d’acquérir un savoir qui leur servira toujours.
URL:https://apprends-et-reve.fr/activite/fais-ton-cinema/2026-04-29/
LOCATION:TEP Sarrail\, 8 Avenue du Général Sarrail\, Paris\, 75016\, France
CATEGORIES:Arts visuels,Cinéma / vidéo
ATTACH;FMTTYPE=image/jpeg:https://apprends-et-reve.fr/wp-content/uploads/2025/05/Cinema-7-11-ans.jpg
GEO:48.8457833;2.2559899
X-APPLE-STRUCTURED-LOCATION;VALUE=URI;X-ADDRESS=TEP Sarrail 8 Avenue du Général Sarrail Paris 75016 France;X-APPLE-RADIUS=500;X-TITLE=8 Avenue du Général Sarrail:geo:2.2559899,48.8457833
END:VEVENT
END:VCALENDAR