

BEGIN:VCALENDAR
VERSION:2.0
PRODID:-//Apprends et Rêve - ECPv6.15.20//NONSGML v1.0//EN
CALSCALE:GREGORIAN
METHOD:PUBLISH
X-WR-CALNAME:Apprends et Rêve
X-ORIGINAL-URL:https://apprends-et-reve.fr
X-WR-CALDESC:Évènements pour Apprends et Rêve
REFRESH-INTERVAL;VALUE=DURATION:PT1H
X-Robots-Tag:noindex
X-PUBLISHED-TTL:PT1H
BEGIN:VTIMEZONE
TZID:Europe/Paris
BEGIN:DAYLIGHT
TZOFFSETFROM:+0100
TZOFFSETTO:+0200
TZNAME:CEST
DTSTART:20250330T010000
END:DAYLIGHT
BEGIN:STANDARD
TZOFFSETFROM:+0200
TZOFFSETTO:+0100
TZNAME:CET
DTSTART:20251026T010000
END:STANDARD
BEGIN:DAYLIGHT
TZOFFSETFROM:+0100
TZOFFSETTO:+0200
TZNAME:CEST
DTSTART:20260329T010000
END:DAYLIGHT
BEGIN:STANDARD
TZOFFSETFROM:+0200
TZOFFSETTO:+0100
TZNAME:CET
DTSTART:20261025T010000
END:STANDARD
BEGIN:DAYLIGHT
TZOFFSETFROM:+0100
TZOFFSETTO:+0200
TZNAME:CEST
DTSTART:20270328T010000
END:DAYLIGHT
BEGIN:STANDARD
TZOFFSETFROM:+0200
TZOFFSETTO:+0100
TZNAME:CET
DTSTART:20271031T010000
END:STANDARD
END:VTIMEZONE
BEGIN:VEVENT
DTSTART;TZID=Europe/Paris:20260427T090000
DTEND;TZID=Europe/Paris:20260430T113000
DTSTAMP:20260425T171638
CREATED:20250425T165255Z
LAST-MODIFIED:20260331T091415Z
UID:10015704-1777280400-1777548600@apprends-et-reve.fr
SUMMARY:🎪 Initiation au cirque pour les 3-5 ans
DESCRIPTION:Ce stage a pour but d’apprendre à l’enfant à mieux connaître et utiliser son corps\, ses capacités et ses limites. La manipulation d’objet lui permettra de maîtriser son agilité et développer sa créativité. L’acrobatie veillera à lui enseigner les défis d’équilibre\, de force\, de souplesse\, de coordination. Grâce à l’expression corporelle\, il réalisera roulades\, imitera postures et démarches d’animaux…
URL:https://apprends-et-reve.fr/activite/initier-les-tout-petits-a-lunivers-du-cirque/
LOCATION:Gymnase des Bauches\, 14 rue des Bauches\, Paris\, 75016\, France
CATEGORIES:Cirque
ATTACH;FMTTYPE=image/jpeg:https://apprends-et-reve.fr/wp-content/uploads/2019/04/Cirque-HD-51-scaled.jpg
GEO:48.8560433;2.2738702
X-APPLE-STRUCTURED-LOCATION;VALUE=URI;X-ADDRESS=Gymnase des Bauches 14 rue des Bauches Paris 75016 France;X-APPLE-RADIUS=500;X-TITLE=14 rue des Bauches:geo:2.2738702,48.8560433
END:VEVENT
BEGIN:VEVENT
DTSTART;TZID=Europe/Paris:20260427T090000
DTEND;TZID=Europe/Paris:20260430T113000
DTSTAMP:20260425T171638
CREATED:20260316T111200Z
LAST-MODIFIED:20260417T103029Z
UID:10021887-1777280400-1777548600@apprends-et-reve.fr
SUMMARY:🎪 Cirque pour les 4-7 ans
DESCRIPTION:Jonglage\, équilibres et petites acrobaties permettent aux enfants de s’initier aux arts du cirque dans un cadre ludique et sécurisé.\nCet atelier développe coordination\, concentration et confiance en soi.
URL:https://apprends-et-reve.fr/activite/cirque-pour-les-4-7-ans-2/
LOCATION:Gymnase des Bauches\, 14 rue des Bauches\, Paris\, 75016\, France
CATEGORIES:Cirque
ATTACH;FMTTYPE=image/jpeg:https://apprends-et-reve.fr/wp-content/uploads/2026/03/ENFANT-6-ANS-CIRQUE-IMG_9669.jpg
GEO:48.8560433;2.2738702
X-APPLE-STRUCTURED-LOCATION;VALUE=URI;X-ADDRESS=Gymnase des Bauches 14 rue des Bauches Paris 75016 France;X-APPLE-RADIUS=500;X-TITLE=14 rue des Bauches:geo:2.2738702,48.8560433
END:VEVENT
END:VCALENDAR