

BEGIN:VCALENDAR
VERSION:2.0
PRODID:-//Apprends et Rêve - ECPv6.15.20//NONSGML v1.0//EN
CALSCALE:GREGORIAN
METHOD:PUBLISH
X-WR-CALNAME:Apprends et Rêve
X-ORIGINAL-URL:https://apprends-et-reve.fr
X-WR-CALDESC:Évènements pour Apprends et Rêve
REFRESH-INTERVAL;VALUE=DURATION:PT1H
X-Robots-Tag:noindex
X-PUBLISHED-TTL:PT1H
BEGIN:VTIMEZONE
TZID:Europe/Paris
BEGIN:DAYLIGHT
TZOFFSETFROM:+0100
TZOFFSETTO:+0200
TZNAME:CEST
DTSTART:20250330T010000
END:DAYLIGHT
BEGIN:STANDARD
TZOFFSETFROM:+0200
TZOFFSETTO:+0100
TZNAME:CET
DTSTART:20251026T010000
END:STANDARD
BEGIN:DAYLIGHT
TZOFFSETFROM:+0100
TZOFFSETTO:+0200
TZNAME:CEST
DTSTART:20260329T010000
END:DAYLIGHT
BEGIN:STANDARD
TZOFFSETFROM:+0200
TZOFFSETTO:+0100
TZNAME:CET
DTSTART:20261025T010000
END:STANDARD
BEGIN:DAYLIGHT
TZOFFSETFROM:+0100
TZOFFSETTO:+0200
TZNAME:CEST
DTSTART:20270328T010000
END:DAYLIGHT
BEGIN:STANDARD
TZOFFSETFROM:+0200
TZOFFSETTO:+0100
TZNAME:CET
DTSTART:20271031T010000
END:STANDARD
END:VTIMEZONE
BEGIN:VEVENT
DTSTART;TZID=Europe/Paris:20260622T093000
DTEND;TZID=Europe/Paris:20260626T123000
DTSTAMP:20260425T235246
CREATED:20260403T113738Z
LAST-MODIFIED:20260403T113738Z
UID:10022019-1782120600-1782477000@apprends-et-reve.fr
SUMMARY:👗 Stylisme & création : imagine\, dessine et réalise ton vêtement
DESCRIPTION:De l’idée à la réalisation\, les adolescents découvrent les étapes de création d’un vêtement comme de vrais stylistes. Ils commencent par imaginer leur modèle\, dessiner leurs croquis puis choisir les formes\, les matières et les détails qui donneront vie à leur création.  \nÀ travers l’apprentissage des bases de la couture\, ils passent ensuite à la réalisation concrète de leur pièce. Un atelier créatif et valorisant qui développe sens du style\, précision et autonomie\, avec la fierté de repartir avec un vêtement unique\, conçu de A à Z. 
URL:https://apprends-et-reve.fr/activite/%f0%9f%91%97-stylisme-creation-imagine-dessine-et-realise-ton-vetement/
LOCATION:Apprends et rêve\, 69\, rue de l’Assomption\, Paris\, 75016\, France
CATEGORIES:Couture,Créativité
ATTACH;FMTTYPE=image/webp:https://apprends-et-reve.fr/wp-content/uploads/2026/04/Stylisme.jpg.webp
GEO:48.8536915;2.2782619
X-APPLE-STRUCTURED-LOCATION;VALUE=URI;X-ADDRESS=Apprends et rêve 69 rue de l’Assomption Paris 75016 France;X-APPLE-RADIUS=500;X-TITLE=69\, rue de l’Assomption:geo:2.2782619,48.8536915
END:VEVENT
BEGIN:VEVENT
DTSTART;TZID=Europe/Paris:20260622T133000
DTEND;TZID=Europe/Paris:20260626T160000
DTSTAMP:20260425T235246
CREATED:20250429T062810Z
LAST-MODIFIED:20260409T094656Z
UID:10015754-1782135000-1782489600@apprends-et-reve.fr
SUMMARY:🏗️ Deviens designer et architecte !
DESCRIPTION:Cette semaine\, vos ados passent de l’idée à la création ! Guidés par un professeur expert\, ils imagineront et dessineront sur ordinateur la maison\, l’appartement ou la façade de leurs rêves grâce à un logiciel de design professionnel. Chacun pourra exprimer sa créativité librement\, et même collaborer sur un projet collectif\, comme un village miniature.  \nPour finir\, ils repartiront avec une œuvre unique\, fruit de leur imagination et de leur savoir-faire. 
URL:https://apprends-et-reve.fr/activite/deviens-architecte-2/
LOCATION:Apprends et rêve\, 69\, rue de l’Assomption\, Paris\, 75016\, France
CATEGORIES:Créativité
ATTACH;FMTTYPE=image/jpeg:https://apprends-et-reve.fr/wp-content/uploads/2025/04/design.jpeg
GEO:48.8536915;2.2782619
X-APPLE-STRUCTURED-LOCATION;VALUE=URI;X-ADDRESS=Apprends et rêve 69 rue de l’Assomption Paris 75016 France;X-APPLE-RADIUS=500;X-TITLE=69\, rue de l’Assomption:geo:2.2782619,48.8536915
END:VEVENT
BEGIN:VEVENT
DTSTART;TZID=Europe/Paris:20260622T133000
DTEND;TZID=Europe/Paris:20260626T163000
DTSTAMP:20260425T235246
CREATED:20260403T124538Z
LAST-MODIFIED:20260413T103744Z
UID:10022024-1782135000-1782491400@apprends-et-reve.fr
SUMMARY:Prends la parole avec assurance et sois le meilleur à l'oral !
DESCRIPTION:Cet atelier aide les adolescents à transformer un oral face à un jury en une parole incarnée\, vivante et convaincante. Grâce au théâtre\, à l’improvisation et au travail du monologue\, ils développent leur présence\, leur voix\, leur rythme et leur confiance. Les textes classiques\, contemporains et personnels servent de support pour apprendre à organiser ses idées\, choisir l’essentiel et s’exprimer avec clarté et intention.  \nObjectifs :  \n\nMaîtriser la voix\, la respiration et l’articulation. \n\n\nGagner en aisance devant un groupe et face à un jury simulé. \n\n\nStructurer un discours et hiérarchiser les informations. \n\n\nDépasser le stress et s’approprier son message. \n\nRencontrez Ivan Gonzalez !\nActeur reconnu et intervenant régulier de nos ateliers de comédie musicale\, Ivan accompagnera les adolescents tout au long de la semaine. Son expérience professionnelle et scénique leur permet de progresser rapidement tout en prenant plaisir à jouer. Sa présence rend l’atelier unique\, motivant et inspirant pour tous les participants. 
URL:https://apprends-et-reve.fr/activite/le-monologue-en-jeu-prendre-la-parole-avec-assurance/
LOCATION:TEP Sarrail\, 8 Avenue du Général Sarrail\, Paris\, 75016\, France
CATEGORIES:Arts visuels,Créativité,Théâtre
ATTACH;FMTTYPE=image/jpeg:https://apprends-et-reve.fr/wp-content/uploads/2026/04/monologue.jpg
GEO:48.8457833;2.2559899
X-APPLE-STRUCTURED-LOCATION;VALUE=URI;X-ADDRESS=TEP Sarrail 8 Avenue du Général Sarrail Paris 75016 France;X-APPLE-RADIUS=500;X-TITLE=8 Avenue du Général Sarrail:geo:2.2559899,48.8457833
END:VEVENT
BEGIN:VEVENT
DTSTART;TZID=Europe/Paris:20260622T140000
DTEND;TZID=Europe/Paris:20260626T163000
DTSTAMP:20260425T235246
CREATED:20260114T172615Z
LAST-MODIFIED:20260403T131329Z
UID:10021691-1782136800-1782491400@apprends-et-reve.fr
SUMMARY:Deviens mangaka !
DESCRIPTION:Tu es fan de mangas ? Et si c’était à ton tour de devenir Mangaka ?  \nPendant ce stage\, les adolescents apprendront toutes les techniques pour dessiner leurs personnages et scènes de manga: créer des visages expressifs\, donner du mouvement et maîtriser la perspective. Mais ce n’est pas tout ! Ils découvriront aussi comment inventer et raconter une histoire captivante\, en transformant leurs idées en véritable scénario.  \nÀ la fin du stage\, chaque participant pourra repartir avec ses propres planches de manga\, prêtes à impressionner ! 
URL:https://apprends-et-reve.fr/activite/deviens-mangaka-6/
LOCATION:TEP Sarrail\, 8 Avenue du Général Sarrail\, Paris\, 75016\, France
CATEGORIES:Créativité,Manga
ATTACH;FMTTYPE=image/jpeg:https://apprends-et-reve.fr/wp-content/uploads/2023/01/Manga-ado.jpg
GEO:48.8457833;2.2559899
X-APPLE-STRUCTURED-LOCATION;VALUE=URI;X-ADDRESS=TEP Sarrail 8 Avenue du Général Sarrail Paris 75016 France;X-APPLE-RADIUS=500;X-TITLE=8 Avenue du Général Sarrail:geo:2.2559899,48.8457833
END:VEVENT
BEGIN:VEVENT
DTSTART;TZID=Europe/Paris:20260622T170000
DTEND;TZID=Europe/Paris:20260622T180000
DTSTAMP:20260425T235246
CREATED:20240513T113432Z
LAST-MODIFIED:20250505T103249Z
UID:10012549-1782147600-1782151200@apprends-et-reve.fr
SUMMARY:Art et créativité: les petits artistes se révèlent
DESCRIPTION:Donner libre court à son imagination dans la joie\, en explorant les moyens visuels (graphiques et plastiques) pour s’exprimer avec liberté ? Découvrir les artistes et les mouvements artistiques afin de s’en inspirer pour créer son univers personnel\, le plus étendu et le plus riche possible ? C’est l’objectif de notre atelier Arts Plastiques où les enfants ne vont pas apprendre à dessiner\, mais à laisser voguer leur imagination. \nIls apprendront à travailler divers matériaux tels que le papier\, le carton\, le tissu\, la terre\, la laine ou encore le fil de fer. Ils découperont\, colleront\, plieront\, agraferont\, utiliserons de la peinture\, des crayons\, des feutres\, créeront des films\, des installations\, des romans-photos\, des histoires. Bref\, des artistes à part entière!
URL:https://apprends-et-reve.fr/activite/art-et-creativite-les-petits-artistes-se-revelent/2026-06-22/
LOCATION:Apprends et rêve\, 69\, rue de l’Assomption\, Paris\, 75016\, France
CATEGORIES:Arts plastiques / créativité,Créativité
ATTACH;FMTTYPE=image/jpeg:https://apprends-et-reve.fr/wp-content/uploads/2017/01/creativite.jpg
GEO:48.8536915;2.2782619
X-APPLE-STRUCTURED-LOCATION;VALUE=URI;X-ADDRESS=Apprends et rêve 69 rue de l’Assomption Paris 75016 France;X-APPLE-RADIUS=500;X-TITLE=69\, rue de l’Assomption:geo:2.2782619,48.8536915
END:VEVENT
BEGIN:VEVENT
DTSTART;TZID=Europe/Paris:20260622T170000
DTEND;TZID=Europe/Paris:20260622T180000
DTSTAMP:20260425T235246
CREATED:20250505T100246Z
LAST-MODIFIED:20250505T104108Z
UID:10015809-1782147600-1782151200@apprends-et-reve.fr
SUMMARY:Les petits artistes passent à l’action
DESCRIPTION:Pour certains artistes contemporains\, ne pas savoir dessiner est un plus. Il permet à la créativité de s’exprimer plus librement et complètement. \nAvec l’atelier Arts plastiques/créativité\, les enfants ne vont pas apprendre à dessiner mais à laisser voguer leur imagination. Ils vont apprendre à travailler des matériaux aussi divers que la terre\, le fil de fer\, le tissu\, le carton\, le papier\, de la mosaïque\, la laine\, la mousse expansive… Ils utiliseront crayons papier\, crayons de couleur\, feutres\, peinture. Ils découperont\, colleront\, agraferont\, plieront… Ils créeront des histoires\, feront des romans-photos\, des films\, des installations\, mêlant musique\, histoire\, images. \nLes enfants seront des artistes à part entière.
URL:https://apprends-et-reve.fr/activite/les-petits-artistes-passent-a-laction-3/2026-06-22/
LOCATION:Apprends et rêve\, 69\, rue de l’Assomption\, Paris\, 75016\, France
CATEGORIES:Arts plastiques / créativité,Créativité
ATTACH;FMTTYPE=image/jpeg:https://apprends-et-reve.fr/wp-content/uploads/2022/05/Art-Plastiques-HD-77-scaled.jpg
GEO:48.8536915;2.2782619
X-APPLE-STRUCTURED-LOCATION;VALUE=URI;X-ADDRESS=Apprends et rêve 69 rue de l’Assomption Paris 75016 France;X-APPLE-RADIUS=500;X-TITLE=69\, rue de l’Assomption:geo:2.2782619,48.8536915
END:VEVENT
BEGIN:VEVENT
DTSTART;TZID=Europe/Paris:20260622T173000
DTEND;TZID=Europe/Paris:20260622T190000
DTSTAMP:20260425T235246
CREATED:20250514T173512Z
LAST-MODIFIED:20250919T094312Z
UID:10021673-1782149400-1782154800@apprends-et-reve.fr
SUMMARY:Deviens mangaka!
DESCRIPTION:Avec cet atelier hebdomadaire\, les adolescents apprendront toutes les techniques et les étapes pour dessiner et scénariser un manga.\nComment esquisser un visage ? Comment créer le mouvement ? Et la perspective ? Le Manga n’a rien à voir avec la BD ou le dessin académique. Styliser son dessin et imaginer sa propre histoire nécessite certaines connaissances et astuces.
URL:https://apprends-et-reve.fr/activite/deviens-mangaka-3/2026-06-22/
LOCATION:Apprends et rêve\, 69\, rue de l’Assomption\, Paris\, 75016\, France
CATEGORIES:Créativité,Manga
ATTACH;FMTTYPE=image/jpeg:https://apprends-et-reve.fr/wp-content/uploads/2021/03/Mangaka.jpg
GEO:48.8536915;2.2782619
X-APPLE-STRUCTURED-LOCATION;VALUE=URI;X-ADDRESS=Apprends et rêve 69 rue de l’Assomption Paris 75016 France;X-APPLE-RADIUS=500;X-TITLE=69\, rue de l’Assomption:geo:2.2782619,48.8536915
END:VEVENT
BEGIN:VEVENT
DTSTART;TZID=Europe/Paris:20260622T180000
DTEND;TZID=Europe/Paris:20260622T193000
DTSTAMP:20260425T235246
CREATED:20250515T221944Z
LAST-MODIFIED:20250523T142713Z
UID:10021272-1782151200-1782156600@apprends-et-reve.fr
SUMMARY:Dessin académique: améliorer sa technique
DESCRIPTION:Lors de cet atelier\, les enfants apprendront à dessiner des objets de la vie quotidienne en appliquant les méthodes traditionnelles du genre académique. \nCe dernier vise à produire une vision réaliste des modèles grâce a des techniques particulières\, propres au dessin académique. \nLes techniques qu’ils apprendront sont simples tout en nécessitant de la rigueur afin de dessiner dans les règles de l’art. Notre atelier s’adresse à tout enfant qui aime dessiner et qui souhaite apprendre les bases du dessin tout en s’amusant.
URL:https://apprends-et-reve.fr/activite/dessin-academique-ameliorer-sa-technique/2026-06-22/
LOCATION:Apprends et rêve\, 69\, rue de l’Assomption\, Paris\, 75016\, France
CATEGORIES:Créativité,Dessin académique
ATTACH;FMTTYPE=image/jpeg:https://apprends-et-reve.fr/wp-content/uploads/2025/05/Dessin-7-11-ans-e1768299387253.jpeg
GEO:48.8536915;2.2782619
X-APPLE-STRUCTURED-LOCATION;VALUE=URI;X-ADDRESS=Apprends et rêve 69 rue de l’Assomption Paris 75016 France;X-APPLE-RADIUS=500;X-TITLE=69\, rue de l’Assomption:geo:2.2782619,48.8536915
END:VEVENT
BEGIN:VEVENT
DTSTART;TZID=Europe/Paris:20260622T180000
DTEND;TZID=Europe/Paris:20260622T193000
DTSTAMP:20260425T235246
CREATED:20250515T231844Z
LAST-MODIFIED:20250523T141622Z
UID:10021233-1782151200-1782156600@apprends-et-reve.fr
SUMMARY:Dessin académique pour les ados: améliorer sa technique
DESCRIPTION:Lors de cet atelier\, les ados\, apprendront à dessiner des objets de la vie quotidienne en appliquant les méthodes traditionnelles du genre académique. Ce dernier vise à produire une vision réaliste des modèles grâce a des techniques particulières\, propres au dessin académique. \nLes techniques qu’ils apprendront sont simples tout en nécessitant de la rigueur afin de dessiner dans les règles de l’art. \nNotre atelier s’adresse à tout ado qui aime dessiner et qui souhaite apprendre les bases du dessin tout en s’amusant.
URL:https://apprends-et-reve.fr/activite/dessin-academique-pour-les-ados-ameliorer-sa-technique/2026-06-22/
LOCATION:Apprends et rêve\, 69\, rue de l’Assomption\, Paris\, 75016\, France
CATEGORIES:Créativité,Dessin académique
ATTACH;FMTTYPE=image/jpeg:https://apprends-et-reve.fr/wp-content/uploads/2025/05/Dessin-ado.jpg
GEO:48.8536915;2.2782619
X-APPLE-STRUCTURED-LOCATION;VALUE=URI;X-ADDRESS=Apprends et rêve 69 rue de l’Assomption Paris 75016 France;X-APPLE-RADIUS=500;X-TITLE=69\, rue de l’Assomption:geo:2.2782619,48.8536915
END:VEVENT
BEGIN:VEVENT
DTSTART;TZID=Europe/Paris:20260623T150000
DTEND;TZID=Europe/Paris:20260623T164500
DTSTAMP:20260425T235246
CREATED:20201117T084812Z
LAST-MODIFIED:20250505T130404Z
UID:10010002-1782226800-1782233100@apprends-et-reve.fr
SUMMARY:Les petits artistes se révèlent
DESCRIPTION:Donner libre court à son imagination dans la joie\, en explorant les moyens visuels (graphiques et plastiques) pour s’exprimer avec liberté ? Découvrir les artistes et les mouvements artistiques afin de s’en inspirer pour créer son univers personnel\, le plus étendu et le plus riche possible ? C’est l’objectif de notre atelier Arts Plastiques où les enfants ne vont pas apprendre à dessiner\, mais à laisser voguer leur imagination. \nIls apprendront à travailler divers matériaux tels que le papier\, le carton\, le tissu\, la terre\, la laine ou encore le fil de fer. Ils découperont\, colleront\, plieront\, agraferont\, utiliserons de la peinture\, des crayons\, des feutres\, créeront des films\, des installations\, des romans-photos\, des histoires. Bref\, des artistes à part entière!
URL:https://apprends-et-reve.fr/activite/laisser-sexprimer-sa-creativite-3/2026-06-23/
LOCATION:Apprends et rêve\, 69\, rue de l’Assomption\, Paris\, 75016\, France
CATEGORIES:Arts plastiques / créativité,Créativité
ATTACH;FMTTYPE=image/jpeg:https://apprends-et-reve.fr/wp-content/uploads/2017/01/creativite.jpg
GEO:48.8536915;2.2782619
X-APPLE-STRUCTURED-LOCATION;VALUE=URI;X-ADDRESS=Apprends et rêve 69 rue de l’Assomption Paris 75016 France;X-APPLE-RADIUS=500;X-TITLE=69\, rue de l’Assomption:geo:2.2782619,48.8536915
END:VEVENT
BEGIN:VEVENT
DTSTART;TZID=Europe/Paris:20260624T100000
DTEND;TZID=Europe/Paris:20260624T110000
DTSTAMP:20260425T235246
CREATED:20250516T122854Z
LAST-MODIFIED:20250516T122854Z
UID:10019406-1782295200-1782298800@apprends-et-reve.fr
SUMMARY:Les petits artistes passent à l’action
DESCRIPTION:Pour certains artistes contemporains\, ne pas savoir dessiner est un plus. Il permet à la créativité de s’exprimer plus librement et complètement. \nAvec l’atelier Arts plastiques/créativité\, les enfants ne vont pas apprendre à dessiner mais à laisser voguer leur imagination. Ils vont apprendre à travailler des matériaux aussi divers que la terre\, le fil de fer\, le tissu\, le carton\, le papier\, de la mosaïque\, la laine\, la mousse expansive… Ils utiliseront crayons papier\, crayons de couleur\, feutres\, peinture. Ils découperont\, colleront\, agraferont\, plieront… Ils créeront des histoires\, feront des romans-photos\, des films\, des installations\, mêlant musique\, histoire\, images. \nLes enfants seront des artistes à part entière.
URL:https://apprends-et-reve.fr/activite/les-petits-artistes-passent-a-laction-4/2026-06-24/
LOCATION:Apprends et rêve\, 69\, rue de l’Assomption\, Paris\, 75016\, France
CATEGORIES:Arts plastiques / créativité,Créativité
ATTACH;FMTTYPE=image/png:https://apprends-et-reve.fr/wp-content/uploads/2021/01/9.png
GEO:48.8536915;2.2782619
X-APPLE-STRUCTURED-LOCATION;VALUE=URI;X-ADDRESS=Apprends et rêve 69 rue de l’Assomption Paris 75016 France;X-APPLE-RADIUS=500;X-TITLE=69\, rue de l’Assomption:geo:2.2782619,48.8536915
END:VEVENT
BEGIN:VEVENT
DTSTART;TZID=Europe/Paris:20260624T110000
DTEND;TZID=Europe/Paris:20260624T120000
DTSTAMP:20260425T235246
CREATED:20250516T131053Z
LAST-MODIFIED:20250521T104132Z
UID:10019740-1782298800-1782302400@apprends-et-reve.fr
SUMMARY:Dessin académique: Apprendre à dessiner
DESCRIPTION:Apprendre à dessiner\, c’est éduquer son regard et sa main. C’est aussi prendre le temps d’observer pour retranscrire sur le papier ce que l’on voit\, puis découvrir différentes techniques de dessin afin de posséder une véritable palette d’outils. \nLes séances permettront aux enfants de développer leur l’observation\, le geste\, les proportions et leur donneront la base nécessaire. Les élèves apprendront\, selon une méthode évolutive\, la perspective\, le volume\, le portrait\, le corps\, les valeurs.
URL:https://apprends-et-reve.fr/activite/dessin-academique-apprendre-a-dessiner/2026-06-24/
LOCATION:Apprends et rêve\, 69\, rue de l’Assomption\, Paris\, 75016\, France
CATEGORIES:Créativité,Dessin académique
ATTACH;FMTTYPE=image/png:https://apprends-et-reve.fr/wp-content/uploads/2020/06/6.png
GEO:48.8536915;2.2782619
X-APPLE-STRUCTURED-LOCATION;VALUE=URI;X-ADDRESS=Apprends et rêve 69 rue de l’Assomption Paris 75016 France;X-APPLE-RADIUS=500;X-TITLE=69\, rue de l’Assomption:geo:2.2782619,48.8536915
END:VEVENT
BEGIN:VEVENT
DTSTART;TZID=Europe/Paris:20260624T140000
DTEND;TZID=Europe/Paris:20260624T150000
DTSTAMP:20260425T235246
CREATED:20250505T144254Z
LAST-MODIFIED:20250505T144254Z
UID:10016090-1782309600-1782313200@apprends-et-reve.fr
SUMMARY:Apprendre à dessiner - Dessin académique débutant
DESCRIPTION:Apprendre à dessiner\, c’est éduquer son regard et sa main. C’est aussi prendre le temps d’observer pour retranscrire sur le papier ce que l’on voit\, puis découvrir différentes techniques de dessin afin de posséder une véritable palette d’outils. \nLes séances permettront aux enfants de développer leur l’observation\, le geste\, les proportions et leur donneront la base nécessaire. Les élèves apprendront\, selon une méthode évolutive\, la perspective\, le volume\, le portrait\, le corps\, les valeurs.
URL:https://apprends-et-reve.fr/activite/apprendre-a-dessiner-dessin-academique-debutant/2026-06-24/
LOCATION:Apprends et rêve\, 69\, rue de l’Assomption\, Paris\, 75016\, France
CATEGORIES:Créativité,Dessin académique
ATTACH;FMTTYPE=image/png:https://apprends-et-reve.fr/wp-content/uploads/2020/06/6.png
GEO:48.8536915;2.2782619
X-APPLE-STRUCTURED-LOCATION;VALUE=URI;X-ADDRESS=Apprends et rêve 69 rue de l’Assomption Paris 75016 France;X-APPLE-RADIUS=500;X-TITLE=69\, rue de l’Assomption:geo:2.2782619,48.8536915
END:VEVENT
BEGIN:VEVENT
DTSTART;TZID=Europe/Paris:20260624T150000
DTEND;TZID=Europe/Paris:20260624T160000
DTSTAMP:20260425T235246
CREATED:20250505T153455Z
LAST-MODIFIED:20250505T153455Z
UID:10016210-1782313200-1782316800@apprends-et-reve.fr
SUMMARY:Améliorer sa technique de dessin -  Dessin académique confirmé
DESCRIPTION:Dessiner\, c’est savoir construire un dessin\, travailler les proportions. Cet atelier de dessin académique destiné aux confirmés permet d’améliorer et perfectionner sa maîtrise technique. \nLes séances permettront de développer l’observation\, le geste\, les proportions et donneront aux ados la base nécessaire. Les élèves approfondiront\, selon une méthode évolutive\, leurs techniques de la perspective\, le volume\, le portrait\, le corps\, les valeurs.
URL:https://apprends-et-reve.fr/activite/ameliorer-sa-technique-de-dessin-dessin-academique-confirme/2026-06-24/
LOCATION:Apprends et rêve\, 69\, rue de l’Assomption\, Paris\, 75016\, France
CATEGORIES:Créativité,Dessin académique
ATTACH;FMTTYPE=image/png:https://apprends-et-reve.fr/wp-content/uploads/2020/06/6.png
GEO:48.8536915;2.2782619
X-APPLE-STRUCTURED-LOCATION;VALUE=URI;X-ADDRESS=Apprends et rêve 69 rue de l’Assomption Paris 75016 France;X-APPLE-RADIUS=500;X-TITLE=69\, rue de l’Assomption:geo:2.2782619,48.8536915
END:VEVENT
BEGIN:VEVENT
DTSTART;TZID=Europe/Paris:20260624T160000
DTEND;TZID=Europe/Paris:20260624T171500
DTSTAMP:20260425T235246
CREATED:20250509T143151Z
LAST-MODIFIED:20250509T143358Z
UID:10017010-1782316800-1782321300@apprends-et-reve.fr
SUMMARY:Laisser s'exprimer sa créativité
DESCRIPTION:Donner libre court à son imagination dans la joie\, en explorant les moyens visuels (graphiques et plastiques) pour s’exprimer avec liberté ? Découvrir les artistes et les mouvements artistiques afin de s’en inspirer pour créer son univers personnel\, le plus étendu et le plus riche possible ? C’est l’objectif de notre atelier Arts Plastiques où les enfants ne vont pas apprendre à dessiner\, mais à laisser voguer leur imagination. \nIls apprendront à travailler divers matériaux tels que le papier\, le carton\, le tissu\, la terre\, la laine ou encore le fil de fer. Ils découperont\, colleront\, plieront\, agraferont\, utiliserons de la peinture\, des crayons\, des feutres\, créeront des films\, des installations\, des romans-photos\, des histoires. Bref\, des artistes à part entière!
URL:https://apprends-et-reve.fr/activite/laisser-sexprimer-sa-creativite-2/2026-06-24/
LOCATION:Apprends et rêve\, 69\, rue de l’Assomption\, Paris\, 75016\, France
CATEGORIES:Arts plastiques / créativité,Créativité
ATTACH;FMTTYPE=image/jpeg:https://apprends-et-reve.fr/wp-content/uploads/2017/01/Art-Plastiques-WEB-59-e1605281764348.jpg
GEO:48.8536915;2.2782619
X-APPLE-STRUCTURED-LOCATION;VALUE=URI;X-ADDRESS=Apprends et rêve 69 rue de l’Assomption Paris 75016 France;X-APPLE-RADIUS=500;X-TITLE=69\, rue de l’Assomption:geo:2.2782619,48.8536915
END:VEVENT
BEGIN:VEVENT
DTSTART;TZID=Europe/Paris:20260624T171500
DTEND;TZID=Europe/Paris:20260624T183000
DTSTAMP:20260425T235246
CREATED:20250516T154814Z
LAST-MODIFIED:20250523T092723Z
UID:10020194-1782321300-1782325800@apprends-et-reve.fr
SUMMARY:Être créatif\, c'est tout un Art
DESCRIPTION:Pour certains artistes contemporains\, ne pas savoir dessiner est un plus. Il permet à la créativité de s’exprimer plus librement et complètement. Avec l’atelier arts plastiques\, les enfants ne vont pas apprendre à dessiner mais à laisser voguer leur imagination. Ils vont apprendre à travailler des matériaux aussi divers que la terre\, le fil de fer\, le tissu\, le carton\, le papier\, de la mosaïque\, la laine\, la mousse expansive… \nIls utiliseront crayons papier\, crayons de couleur\, feutres\, peinture. Ils découperont\, colleront\, agraferont\, plieront… Ils créeront des histoires\, feront des romans-photos\, des films\, des installations\, mêlant musique\, histoire\, images. Les enfants seront des artistes à part entière.
URL:https://apprends-et-reve.fr/activite/etre-creatif-cest-tout-un-art/2026-06-24/
LOCATION:Apprends et rêve\, 69\, rue de l’Assomption\, Paris\, 75016\, France
CATEGORIES:Arts plastiques / créativité,Musique / son
ATTACH;FMTTYPE=image/jpeg:https://apprends-et-reve.fr/wp-content/uploads/2020/09/img_categorie_theme_arts_plastiques_home.jpg
GEO:48.8536915;2.2782619
X-APPLE-STRUCTURED-LOCATION;VALUE=URI;X-ADDRESS=Apprends et rêve 69 rue de l’Assomption Paris 75016 France;X-APPLE-RADIUS=500;X-TITLE=69\, rue de l’Assomption:geo:2.2782619,48.8536915
END:VEVENT
BEGIN:VEVENT
DTSTART;TZID=Europe/Paris:20260624T171500
DTEND;TZID=Europe/Paris:20260624T183000
DTSTAMP:20260425T235246
CREATED:20250516T160426Z
LAST-MODIFIED:20250523T092359Z
UID:10020430-1782321300-1782325800@apprends-et-reve.fr
SUMMARY:Être créatif\, c'est tout un art!
DESCRIPTION:Pour certains artistes contemporains\, ne pas savoir dessiner est un plus. Il permet à la créativité de s’exprimer plus librement et complètement. Avec l’atelier arts plastiques\, les adolescents ne vont pas apprendre à dessiner mais à laisser voguer leur imagination. Ils vont apprendre à travailler des matériaux aussi divers que la terre\, le fil de fer\, le tissu\, le carton\, le papier\, de la mosaïque\, la laine\, la mousse expansive… \nIls utiliseront crayons papier\, crayons de couleur\, feutres\, peinture. Ils découperont\, colleront\, agraferont\, plieront… Ils créeront des histoires\, feront des romans-photos\, des films\, des installations\, mêlant musique\, histoire\, images. Les ados seront des artistes à part entière.
URL:https://apprends-et-reve.fr/activite/etre-creatif-cest-tout-un-art-2/2026-06-24/
LOCATION:Apprends et rêve\, 69\, rue de l’Assomption\, Paris\, 75016\, France
CATEGORIES:Arts plastiques / créativité,Musique / son
ATTACH;FMTTYPE=image/jpeg:https://apprends-et-reve.fr/wp-content/uploads/2019/04/Art-Plastiques-HD-4-scaled.jpg
GEO:48.8536915;2.2782619
X-APPLE-STRUCTURED-LOCATION;VALUE=URI;X-ADDRESS=Apprends et rêve 69 rue de l’Assomption Paris 75016 France;X-APPLE-RADIUS=500;X-TITLE=69\, rue de l’Assomption:geo:2.2782619,48.8536915
END:VEVENT
END:VCALENDAR