

BEGIN:VCALENDAR
VERSION:2.0
PRODID:-//Apprends et Rêve - ECPv6.15.20//NONSGML v1.0//EN
CALSCALE:GREGORIAN
METHOD:PUBLISH
X-WR-CALNAME:Apprends et Rêve
X-ORIGINAL-URL:https://apprends-et-reve.fr
X-WR-CALDESC:Évènements pour Apprends et Rêve
REFRESH-INTERVAL;VALUE=DURATION:PT1H
X-Robots-Tag:noindex
X-PUBLISHED-TTL:PT1H
BEGIN:VTIMEZONE
TZID:Europe/Paris
BEGIN:DAYLIGHT
TZOFFSETFROM:+0100
TZOFFSETTO:+0200
TZNAME:CEST
DTSTART:20250330T010000
END:DAYLIGHT
BEGIN:STANDARD
TZOFFSETFROM:+0200
TZOFFSETTO:+0100
TZNAME:CET
DTSTART:20251026T010000
END:STANDARD
BEGIN:DAYLIGHT
TZOFFSETFROM:+0100
TZOFFSETTO:+0200
TZNAME:CEST
DTSTART:20260329T010000
END:DAYLIGHT
BEGIN:STANDARD
TZOFFSETFROM:+0200
TZOFFSETTO:+0100
TZNAME:CET
DTSTART:20261025T010000
END:STANDARD
BEGIN:DAYLIGHT
TZOFFSETFROM:+0100
TZOFFSETTO:+0200
TZNAME:CEST
DTSTART:20270328T010000
END:DAYLIGHT
BEGIN:STANDARD
TZOFFSETFROM:+0200
TZOFFSETTO:+0100
TZNAME:CET
DTSTART:20271031T010000
END:STANDARD
END:VTIMEZONE
BEGIN:VEVENT
DTSTART;TZID=Europe/Paris:20260616T150000
DTEND;TZID=Europe/Paris:20260616T164500
DTSTAMP:20260419T223746
CREATED:20201113T154900Z
LAST-MODIFIED:20250502T131725Z
UID:10009849-1781622000-1781628300@apprends-et-reve.fr
SUMMARY:Les Petits Chefs sont en cuisine!
DESCRIPTION:En compagnie de Cécile\, qui en plus de transmettre sa passion pour la cuisine\, aime faire découvrir aux enfants de nouvelles saveurs\, les faire voyager par le goût\, leur apprendre à associer les ingrédients\, éduquer leur goût. \nAvec elle\, non seulement les enfants deviennent des petits Chefs\, initiés aux recettes simples\, mais ils vont apprendre d’où viennent fruits et légumes\, comment on les cultive et avoir le plaisir de non seulement les cuisiner\, mais aussi les manger ! Désormais\, ils réclameront des épinards pour dîner !
URL:https://apprends-et-reve.fr/activite/laisser-sexprimer-sa-creativite/2026-06-16/
LOCATION:Apprends et rêve\, 69\, rue de l’Assomption\, Paris\, 75016\, France
CATEGORIES:Cuisine
ATTACH;FMTTYPE=image/jpeg:https://apprends-et-reve.fr/wp-content/uploads/2017/01/cuisine.jpg
GEO:48.8536915;2.2782619
X-APPLE-STRUCTURED-LOCATION;VALUE=URI;X-ADDRESS=Apprends et rêve 69 rue de l’Assomption Paris 75016 France;X-APPLE-RADIUS=500;X-TITLE=69\, rue de l’Assomption:geo:2.2782619,48.8536915
END:VEVENT
BEGIN:VEVENT
DTSTART;TZID=Europe/Paris:20260616T150000
DTEND;TZID=Europe/Paris:20260616T164500
DTSTAMP:20260419T223746
CREATED:20201117T084337Z
LAST-MODIFIED:20250502T130404Z
UID:10009953-1781622000-1781628300@apprends-et-reve.fr
SUMMARY:Vive les Petits Chefs!
DESCRIPTION:En compagnie de Cécile\, qui en plus de transmettre sa passion pour la cuisine\, aime faire découvrir aux enfants de nouvelles saveurs\, les faire voyager par le goût\, leur apprendre à associer les ingrédients\, éduquer leur goût. \nAvec elle\, non seulement les enfants deviennent de Petits Chefs\, et apprennent à confectionner les recettes de base\, mais ils vont aussi connaître d’où viennent fruits et légumes\, comment on les cultive et avoir le plaisir de non seulement les cuisiner\, mais aussi les manger ! Désormais\, ils réclameront des épinards pour dîner !
URL:https://apprends-et-reve.fr/activite/de-delicieuses-decouvertes/2026-06-16/
LOCATION:Apprends et rêve\, 69\, rue de l’Assomption\, Paris\, 75016\, France
CATEGORIES:Cuisine
ATTACH;FMTTYPE=image/jpeg:https://apprends-et-reve.fr/wp-content/uploads/2020/09/img_categorie_theme_cuisine_home.jpg
GEO:48.8536915;2.2782619
X-APPLE-STRUCTURED-LOCATION;VALUE=URI;X-ADDRESS=Apprends et rêve 69 rue de l’Assomption Paris 75016 France;X-APPLE-RADIUS=500;X-TITLE=69\, rue de l’Assomption:geo:2.2782619,48.8536915
END:VEVENT
BEGIN:VEVENT
DTSTART;TZID=Europe/Paris:20260617T110000
DTEND;TZID=Europe/Paris:20260617T121500
DTSTAMP:20260419T223746
CREATED:20250516T131251Z
LAST-MODIFIED:20250521T132037Z
UID:10019779-1781694000-1781698500@apprends-et-reve.fr
SUMMARY:Les Petits Chefs sont en cuisine!
DESCRIPTION:En compagnie de Stéphanie\, qui en plus de transmettre sa passion pour la cuisine\, aime faire découvrir aux enfants de nouvelles saveurs\, les faire voyager par le goût\, leur apprendre à associer les ingrédients\, éduquer leur goût. \nAvec elle\, non seulement les enfants deviennent des petits Chefs\, initiés aux recettes simples\, mais ils vont apprendre d’où viennent fruits et légumes\, comment on les cultive et avoir le plaisir de non seulement les cuisiner\, mais aussi les manger ! Désormais\, ils réclameront des épinards pour dîner !
URL:https://apprends-et-reve.fr/activite/les-petits-chefs-sont-en-cuisine-2/2026-06-17/
LOCATION:Apprends et rêve\, 69\, rue de l’Assomption\, Paris\, 75016\, France
CATEGORIES:Cuisine
ATTACH;FMTTYPE=image/jpeg:https://apprends-et-reve.fr/wp-content/uploads/2020/09/img_categorie_theme_cuisine_home.jpg
GEO:48.8536915;2.2782619
X-APPLE-STRUCTURED-LOCATION;VALUE=URI;X-ADDRESS=Apprends et rêve 69 rue de l’Assomption Paris 75016 France;X-APPLE-RADIUS=500;X-TITLE=69\, rue de l’Assomption:geo:2.2782619,48.8536915
END:VEVENT
BEGIN:VEVENT
DTSTART;TZID=Europe/Paris:20260617T140000
DTEND;TZID=Europe/Paris:20260617T153000
DTSTAMP:20260419T223746
CREATED:20250505T150026Z
LAST-MODIFIED:20250505T150026Z
UID:10016129-1781704800-1781710200@apprends-et-reve.fr
SUMMARY:Cuisine: de délicieuses découvertes
DESCRIPTION:En compagnie de Stéphanie\, qui en plus de transmettre sa passion pour la cuisine\, aime faire découvrir aux enfants de nouvelles saveurs\, les faire voyager par le goût\, leur apprendre à associer les ingrédients\, éduquer leur goût. \nAvec elle\, non seulement les enfants deviennent de véritables Chefs\, prêts à vous préparer de bons petits plats\, mais ils vont connaître d’où viennent fruits et légumes\, comment on les cultive et avoir le plaisir de non seulement les cuisiner\, mais aussi les manger ! Désormais\, ils réclameront des épinards pour dîner !
URL:https://apprends-et-reve.fr/activite/cuisine-de-delicieuses-decouvertes/2026-06-17/
LOCATION:Apprends et rêve\, 69\, rue de l’Assomption\, Paris\, 75016\, France
CATEGORIES:Cuisine
ATTACH;FMTTYPE=image/jpeg:https://apprends-et-reve.fr/wp-content/uploads/2021/01/fille-cuisine-Depositphotos_182948794_s-2019.jpg
GEO:48.8536915;2.2782619
X-APPLE-STRUCTURED-LOCATION;VALUE=URI;X-ADDRESS=Apprends et rêve 69 rue de l’Assomption Paris 75016 France;X-APPLE-RADIUS=500;X-TITLE=69\, rue de l’Assomption:geo:2.2782619,48.8536915
END:VEVENT
BEGIN:VEVENT
DTSTART;TZID=Europe/Paris:20260617T160000
DTEND;TZID=Europe/Paris:20260617T173000
DTSTAMP:20260419T223746
CREATED:20250505T162928Z
LAST-MODIFIED:20250505T162928Z
UID:10016369-1781712000-1781717400@apprends-et-reve.fr
SUMMARY:Deviens un fin cordon bleu et fais-toi plaisir!
DESCRIPTION:Tu rêves de cuisiner le gâteau le meilleur et le plus beau que tu n’as jamais vu ? Ou bien de pouvoir faire de bons petits plats de temps en temps ? Tu as trouvé ton Graal.\nCar si cuisiner semble facile quand on ne le fait pas\, s’y mettre (et réussir) peut être une autre paire de manches !\nStéphanie\, diplômée de l’école Ferrandi (pâtisserie) et titulaire d’un diplôme de cuisine (salé) sauras t’apprendre les techniques\, te donner envie de cuisiner à nouveau\, t’apprendre des recettes simples\, faciles à refaire\, mais qui éblouissent les papilles.
URL:https://apprends-et-reve.fr/activite/deviens-un-fin-cordon-bleu-et-fais-toi-plaisir-2/2026-06-17/
LOCATION:Apprends et rêve\, 69\, rue de l’Assomption\, Paris\, 75016\, France
CATEGORIES:Cuisine
ATTACH;FMTTYPE=image/jpeg:https://apprends-et-reve.fr/wp-content/uploads/2023/05/kochen-fuer-anfaenger.jpg
GEO:48.8536915;2.2782619
X-APPLE-STRUCTURED-LOCATION;VALUE=URI;X-ADDRESS=Apprends et rêve 69 rue de l’Assomption Paris 75016 France;X-APPLE-RADIUS=500;X-TITLE=69\, rue de l’Assomption:geo:2.2782619,48.8536915
END:VEVENT
BEGIN:VEVENT
DTSTART;TZID=Europe/Paris:20260618T170000
DTEND;TZID=Europe/Paris:20260618T181500
DTSTAMP:20260419T223746
CREATED:20250515T223148Z
LAST-MODIFIED:20250523T143243Z
UID:10021310-1781802000-1781806500@apprends-et-reve.fr
SUMMARY:Cuisine: de délicieuses découvertes
DESCRIPTION:Les ateliers Cuisine chez Apprends et Rêve offrent aux enfants l’opportunité d’explorer le monde culinaire en préparant des recettes simples et savoureuses. \nCes activités stimulent la créativité\, favorisent l’autonomie et encouragent la découverte de produits sains\, tout en sensibilisant les enfants à des habitudes alimentaires équilibrées. \nL’objectif ? Apprendre à manipuler des ingrédients\, respecter les étapes de préparation et partager un moment convivial\, tout en éveillant leur goût et leur sens de la responsabilité en cuisine. \nUne expérience enrichissante pour développer des compétences pratiques tout en s’amusant et se régalant !
URL:https://apprends-et-reve.fr/activite/cuisine-de-delicieuses-decouvertes-2/2026-06-18/
LOCATION:Apprends et rêve\, 69\, rue de l’Assomption\, Paris\, 75016\, France
CATEGORIES:Cuisine
ATTACH;FMTTYPE=image/jpeg:https://apprends-et-reve.fr/wp-content/uploads/2025/05/Cuisine-7-11-ans.jpeg
GEO:48.8536915;2.2782619
X-APPLE-STRUCTURED-LOCATION;VALUE=URI;X-ADDRESS=Apprends et rêve 69 rue de l’Assomption Paris 75016 France;X-APPLE-RADIUS=500;X-TITLE=69\, rue de l’Assomption:geo:2.2782619,48.8536915
END:VEVENT
END:VCALENDAR