

BEGIN:VCALENDAR
VERSION:2.0
PRODID:-//Apprends et Rêve - ECPv6.15.20//NONSGML v1.0//EN
CALSCALE:GREGORIAN
METHOD:PUBLISH
X-WR-CALNAME:Apprends et Rêve
X-ORIGINAL-URL:https://apprends-et-reve.fr
X-WR-CALDESC:Évènements pour Apprends et Rêve
REFRESH-INTERVAL;VALUE=DURATION:PT1H
X-Robots-Tag:noindex
X-PUBLISHED-TTL:PT1H
BEGIN:VTIMEZONE
TZID:Europe/Paris
BEGIN:DAYLIGHT
TZOFFSETFROM:+0100
TZOFFSETTO:+0200
TZNAME:CEST
DTSTART:20250330T010000
END:DAYLIGHT
BEGIN:STANDARD
TZOFFSETFROM:+0200
TZOFFSETTO:+0100
TZNAME:CET
DTSTART:20251026T010000
END:STANDARD
BEGIN:DAYLIGHT
TZOFFSETFROM:+0100
TZOFFSETTO:+0200
TZNAME:CEST
DTSTART:20260329T010000
END:DAYLIGHT
BEGIN:STANDARD
TZOFFSETFROM:+0200
TZOFFSETTO:+0100
TZNAME:CET
DTSTART:20261025T010000
END:STANDARD
BEGIN:DAYLIGHT
TZOFFSETFROM:+0100
TZOFFSETTO:+0200
TZNAME:CEST
DTSTART:20270328T010000
END:DAYLIGHT
BEGIN:STANDARD
TZOFFSETFROM:+0200
TZOFFSETTO:+0100
TZNAME:CET
DTSTART:20271031T010000
END:STANDARD
END:VTIMEZONE
BEGIN:VEVENT
DTSTART;TZID=Europe/Paris:20260629T103000
DTEND;TZID=Europe/Paris:20260703T123000
DTSTAMP:20260420T001315
CREATED:20250902T093428Z
LAST-MODIFIED:20260403T143157Z
UID:10013078-1782729000-1783081800@apprends-et-reve.fr
SUMMARY:Danses : découvre tous les styles !
DESCRIPTION:Une semaine pour bouger\, explorer et s’éclater ! Ce stage permet aux adolescents de découvrir et pratiquer différents styles de danse : modern\, jazz\, hip-hop\, break dance et bien plus encore. Chaque jour\, ils apprendront de nouvelles techniques\, chorégraphies et mouvements pour développer leur rythme\, leur coordination et leur créativité.  \nEncadré par des professeurs passionnés\, ce stage offre aussi un espace pour oser\, s’exprimer et progresser en groupe\, tout en s’amusant. À la fin de la semaine\, chaque participant pourra montrer ce qu’il a appris lors d’une petite présentation ou restitution conviviale.  \n  \n  \n 
URL:https://apprends-et-reve.fr/activite/danse-classique-art-et-anglais-un-stage-pour-exprimer-ses-talents-3-2/
LOCATION:TEP Sarrail\, 8 Avenue du Général Sarrail\, Paris\, 75016\, France
CATEGORIES:Breakdance,Danse,Hip Hop/Breakdance,Modern Street / Jazz
ATTACH;FMTTYPE=image/webp:https://apprends-et-reve.fr/wp-content/uploads/2026/01/danses.jpg.webp
GEO:48.8457833;2.2559899
X-APPLE-STRUCTURED-LOCATION;VALUE=URI;X-ADDRESS=TEP Sarrail 8 Avenue du Général Sarrail Paris 75016 France;X-APPLE-RADIUS=500;X-TITLE=8 Avenue du Général Sarrail:geo:2.2559899,48.8457833
END:VEVENT
END:VCALENDAR