

BEGIN:VCALENDAR
VERSION:2.0
PRODID:-//Apprends et Rêve - ECPv6.15.20//NONSGML v1.0//EN
CALSCALE:GREGORIAN
METHOD:PUBLISH
X-WR-CALNAME:Apprends et Rêve
X-ORIGINAL-URL:https://apprends-et-reve.fr
X-WR-CALDESC:Évènements pour Apprends et Rêve
REFRESH-INTERVAL;VALUE=DURATION:PT1H
X-Robots-Tag:noindex
X-PUBLISHED-TTL:PT1H
BEGIN:VTIMEZONE
TZID:Europe/Paris
BEGIN:DAYLIGHT
TZOFFSETFROM:+0100
TZOFFSETTO:+0200
TZNAME:CEST
DTSTART:20250330T010000
END:DAYLIGHT
BEGIN:STANDARD
TZOFFSETFROM:+0200
TZOFFSETTO:+0100
TZNAME:CET
DTSTART:20251026T010000
END:STANDARD
BEGIN:DAYLIGHT
TZOFFSETFROM:+0100
TZOFFSETTO:+0200
TZNAME:CEST
DTSTART:20260329T010000
END:DAYLIGHT
BEGIN:STANDARD
TZOFFSETFROM:+0200
TZOFFSETTO:+0100
TZNAME:CET
DTSTART:20261025T010000
END:STANDARD
BEGIN:DAYLIGHT
TZOFFSETFROM:+0100
TZOFFSETTO:+0200
TZNAME:CEST
DTSTART:20270328T010000
END:DAYLIGHT
BEGIN:STANDARD
TZOFFSETFROM:+0200
TZOFFSETTO:+0100
TZNAME:CET
DTSTART:20271031T010000
END:STANDARD
END:VTIMEZONE
BEGIN:VEVENT
DTSTART;TZID=Europe/Paris:20260427T100000
DTEND;TZID=Europe/Paris:20260430T120000
DTSTAMP:20260425T172536
CREATED:20260316T141127Z
LAST-MODIFIED:20260331T093640Z
UID:10021917-1777284000-1777550400@apprends-et-reve.fr
SUMMARY:💻 Codage & Scratch pour les 7-11 ans
DESCRIPTION:Les enfants découvrent les bases de la programmation de manière ludique grâce à Scratch\, un langage de codage visuel spécialement conçu pour les plus jeunes.À travers des jeux\, des animations et de petits projets interactifs\, ils apprennent à créer des histoires\, programmer des mouvements et comprendre la logique derrière le fonctionnement des applications et des jeux. \nCet atelier développe la réflexion\, la créativité et la résolution de problèmes tout en initiant les enfants au monde passionnant du numérique.
URL:https://apprends-et-reve.fr/activite/%f0%9f%92%bb-codage-scratch-pour-les-7-11-ans/
LOCATION:Apprends et rêve\, 69\, rue de l’Assomption\, Paris\, 75016\, France
CATEGORIES:Codage,Informatique et numérique
ATTACH;FMTTYPE=image/jpeg:https://apprends-et-reve.fr/wp-content/uploads/2019/04/CodageCE1-CM2-HD1-scaled.jpg
GEO:48.8536915;2.2782619
X-APPLE-STRUCTURED-LOCATION;VALUE=URI;X-ADDRESS=Apprends et rêve 69 rue de l’Assomption Paris 75016 France;X-APPLE-RADIUS=500;X-TITLE=69\, rue de l’Assomption:geo:2.2782619,48.8536915
END:VEVENT
BEGIN:VEVENT
DTSTART;TZID=Europe/Paris:20260427T133000
DTEND;TZID=Europe/Paris:20260430T150000
DTSTAMP:20260425T172536
CREATED:20260316T151636Z
LAST-MODIFIED:20260331T093151Z
UID:10021935-1777296600-1777561200@apprends-et-reve.fr
SUMMARY:♟ Échecs pour les 9-12 ans
DESCRIPTION:Les joueurs développent leurs stratégies et apprennent à anticiper plusieurs coups à l’avance. Parties guidées\, exercices tactiques et défis stimulent la concentration et la réflexion. Un atelier idéal pour les esprits curieux et stratégiques. 
URL:https://apprends-et-reve.fr/activite/%e2%99%9f-echecs-pour-les-9-12-ans-2/
LOCATION:TEP Sarrail\, 8 Avenue du Général Sarrail\, Paris\, 75016\, France
CATEGORIES:Echecs,Echecs,Informatique et numérique
ATTACH;FMTTYPE=image/jpeg:https://apprends-et-reve.fr/wp-content/uploads/2026/03/Echecs.jpg
GEO:48.8457833;2.2559899
X-APPLE-STRUCTURED-LOCATION;VALUE=URI;X-ADDRESS=TEP Sarrail 8 Avenue du Général Sarrail Paris 75016 France;X-APPLE-RADIUS=500;X-TITLE=8 Avenue du Général Sarrail:geo:2.2559899,48.8457833
END:VEVENT
BEGIN:VEVENT
DTSTART;TZID=Europe/Paris:20260427T133000
DTEND;TZID=Europe/Paris:20260430T153000
DTSTAMP:20260425T172536
CREATED:20250424T102346Z
LAST-MODIFIED:20260331T092955Z
UID:10015644-1777296600-1777563000@apprends-et-reve.fr
SUMMARY:💻 Python pour les ados
DESCRIPTION:Les adolescents découvrent les bases du langage de programmation Python\, l’un des langages les plus utilisés aujourd’hui dans le monde du numérique et de l’intelligence artificielle.À travers des exercices progressifs et de petits projets concrets\, ils apprennent les principes essentiels du codage : logique\, variables\, boucles et création de programmes simples. \nUn atelier stimulant qui développe la réflexion\, la résolution de problèmes et la compréhension du fonctionnement des technologies qui nous entourent.
URL:https://apprends-et-reve.fr/activite/apprendre-a-coder-avec-le-langage-python-cest-passionnant/
LOCATION:Apprends et rêve\, 69\, rue de l’Assomption\, Paris\, 75016\, France
CATEGORIES:Codage,Informatique et numérique
ATTACH;FMTTYPE=image/jpeg:https://apprends-et-reve.fr/wp-content/uploads/2025/04/Python.jpg
GEO:48.8536915;2.2782619
X-APPLE-STRUCTURED-LOCATION;VALUE=URI;X-ADDRESS=Apprends et rêve 69 rue de l’Assomption Paris 75016 France;X-APPLE-RADIUS=500;X-TITLE=69\, rue de l’Assomption:geo:2.2782619,48.8536915
END:VEVENT
BEGIN:VEVENT
DTSTART;TZID=Europe/Paris:20260429T140000
DTEND;TZID=Europe/Paris:20260429T160000
DTSTAMP:20260425T172536
CREATED:20250507T122131Z
LAST-MODIFIED:20250507T122131Z
UID:10016922-1777471200-1777478400@apprends-et-reve.fr
SUMMARY:Apprendre à coder et créer son propre jeu vidéo
DESCRIPTION:Grâce à cet atelier\, les enfants apprennent à coder? Ils s’initient à la programmation sur Scratch\, un langage développé par le MIT à Boston\, et permettant un apprentissage ludique et intuitif du codage. \nCette activité permet aux enfants d’apprendre à structurer leur esprit et acquérir de nombreuses compétences digitales. Les bénéfices : anticipation\, résolutions de formules mathématiques\, approfondissement de programmation\, conscience esthétique\, conception artistique\, création numérique. \nVoici quelques exemples de réalisation. \nUne fois leur premier jeu vidéo réalisé\, les enfants mettront en pratique leur apprentissage pour créer et programmer des intelligences artificielles (robot) en mettant en place un « pool d’ingénieurs »\, comme au MIT.
URL:https://apprends-et-reve.fr/activite/apprendre-a-coder-et-creer-son-propre-jeu-video-2/2026-04-29/
LOCATION:Apprends et rêve\, 69\, rue de l’Assomption\, Paris\, 75016\, France
CATEGORIES:Codage,Informatique et numérique
ATTACH;FMTTYPE=image/jpeg:https://apprends-et-reve.fr/wp-content/uploads/2020/07/img_ex_slider_3.jpg
GEO:48.8536915;2.2782619
X-APPLE-STRUCTURED-LOCATION;VALUE=URI;X-ADDRESS=Apprends et rêve 69 rue de l’Assomption Paris 75016 France;X-APPLE-RADIUS=500;X-TITLE=69\, rue de l’Assomption:geo:2.2782619,48.8536915
END:VEVENT
BEGIN:VEVENT
DTSTART;TZID=Europe/Paris:20260429T163000
DTEND;TZID=Europe/Paris:20260429T183000
DTSTAMP:20260425T172536
CREATED:20250506T135208Z
LAST-MODIFIED:20250506T135208Z
UID:10016802-1777480200-1777487400@apprends-et-reve.fr
SUMMARY:Apprendre à coder et découvrir langage Python
DESCRIPTION:Dans cet atelier informatique\, les pré ados et ados vont s’initier à un langage de programmation intuitif et ludique développé par le MIT (Massachussetts Institute of Technology) pour faciliter l’apprentissage du codage. \nCette activité permet aux adolescents de structurer leur esprit de manière différente\, en pensant à l’utilisateur mais aussi en mobilisant et développant des capacités spécifiques : anticipation\, création numérique\, conception artistique et conscience esthétique\, résolutions de formules mathématiques\, approfondissement de programmation. \nAvec cet atelier\, les ados découvriront également la programmation et les notions clefs du langage Python en créant ludiquement des programmes et en jouant sur le logiciel graphique « Turtle ». \nQuoi de mieux\, par exemple\, que de concevoir un programme pour calculer le coût de son voyage spatial\, plutôt que de prendre des heures à le faire de tête? \nEn filigrane\, les ados apprendront les notions de programmation : variables\, boucles\, fonctions\, etc… À la fois passionnant\, amusant… et utile. \nIls s’initieront en plus à la robotique\, à la 3D afin d’avoir un apprentissage complet.
URL:https://apprends-et-reve.fr/activite/apprendre-a-coder-et-decouvrir-langage-python/2026-04-29/
LOCATION:Apprends et rêve\, 69\, rue de l’Assomption\, Paris\, 75016\, France
CATEGORIES:Codage,Informatique et numérique,Robotique
ATTACH;FMTTYPE=image/jpeg:https://apprends-et-reve.fr/wp-content/uploads/2021/01/adolescent-codage-informatique-python-ordinateur.jpg
GEO:48.8536915;2.2782619
X-APPLE-STRUCTURED-LOCATION;VALUE=URI;X-ADDRESS=Apprends et rêve 69 rue de l’Assomption Paris 75016 France;X-APPLE-RADIUS=500;X-TITLE=69\, rue de l’Assomption:geo:2.2782619,48.8536915
END:VEVENT
END:VCALENDAR