

BEGIN:VCALENDAR
VERSION:2.0
PRODID:-//Apprends et Rêve - ECPv6.15.20//NONSGML v1.0//EN
CALSCALE:GREGORIAN
METHOD:PUBLISH
X-WR-CALNAME:Apprends et Rêve
X-ORIGINAL-URL:https://apprends-et-reve.fr
X-WR-CALDESC:Évènements pour Apprends et Rêve
REFRESH-INTERVAL;VALUE=DURATION:PT1H
X-Robots-Tag:noindex
X-PUBLISHED-TTL:PT1H
BEGIN:VTIMEZONE
TZID:Europe/Paris
BEGIN:DAYLIGHT
TZOFFSETFROM:+0100
TZOFFSETTO:+0200
TZNAME:CEST
DTSTART:20250330T010000
END:DAYLIGHT
BEGIN:STANDARD
TZOFFSETFROM:+0200
TZOFFSETTO:+0100
TZNAME:CET
DTSTART:20251026T010000
END:STANDARD
BEGIN:DAYLIGHT
TZOFFSETFROM:+0100
TZOFFSETTO:+0200
TZNAME:CEST
DTSTART:20260329T010000
END:DAYLIGHT
BEGIN:STANDARD
TZOFFSETFROM:+0200
TZOFFSETTO:+0100
TZNAME:CET
DTSTART:20261025T010000
END:STANDARD
BEGIN:DAYLIGHT
TZOFFSETFROM:+0100
TZOFFSETTO:+0200
TZNAME:CEST
DTSTART:20270328T010000
END:DAYLIGHT
BEGIN:STANDARD
TZOFFSETFROM:+0200
TZOFFSETTO:+0100
TZNAME:CET
DTSTART:20271031T010000
END:STANDARD
END:VTIMEZONE
BEGIN:VEVENT
DTSTART;TZID=Europe/Paris:20260422T091500
DTEND;TZID=Europe/Paris:20260422T124500
DTSTAMP:20260425T171617
CREATED:20250505T131859Z
LAST-MODIFIED:20250523T130548Z
UID:10021029-1776849300-1776861900@apprends-et-reve.fr
SUMMARY:Mercredi multi activités: des échecs au tennis en passant par le théâtre\, la danse\, le tennis et l'anglais
DESCRIPTION:Avec cette formule\, nous proposons à vos enfants de participer à 3 activités consécutives et une prise en charge à partir de 9h15 et jusqu’à 12h45\, tout en bénéficiant d’un tarif très avantageux. \nVotre enfant choisira trois activités parmi les six activités suivantes: Foot\, anglais\, échecs\, danse classique\, tennis et/ou théâtre. \nChacune de ces activités est dirigée par un professeur/ coach diplômé. \nChaque mercredi\, votre enfant aura la chance de participer à 3 activités totalement différentes mais complémentaires qui lui permettront de s’épanouir pleinement et révéler tous ses talents.
URL:https://apprends-et-reve.fr/activite/copie-de-mercredi-multi-activites-des-echecs-au-tennis-en-passant-par-le-theatre-la-danse-le-tennis-et-langlais/2026-04-22/
LOCATION:TEP Sarrail\, 8 Avenue du Général Sarrail\, Paris\, 75016\, France
CATEGORIES:Multi activités
ATTACH;FMTTYPE=image/jpeg:https://apprends-et-reve.fr/wp-content/uploads/2022/05/groupe-enfants-heureux-Depositphotos_207946538_XL-scaled.jpg
GEO:48.8457833;2.2559899
X-APPLE-STRUCTURED-LOCATION;VALUE=URI;X-ADDRESS=TEP Sarrail 8 Avenue du Général Sarrail Paris 75016 France;X-APPLE-RADIUS=500;X-TITLE=8 Avenue du Général Sarrail:geo:2.2559899,48.8457833
END:VEVENT
BEGIN:VEVENT
DTSTART;TZID=Europe/Paris:20260422T091500
DTEND;TZID=Europe/Paris:20260422T124500
DTSTAMP:20260425T171617
CREATED:20250506T103622Z
LAST-MODIFIED:20250519T154741Z
UID:10016561-1776849300-1776861900@apprends-et-reve.fr
SUMMARY:Mercredi multi activités: De l'anglais au foot en passant par le tennis\, la danse\, la gym et le théâtre
DESCRIPTION:Avec cette formule\, nous proposons à vos enfants de participer à 3 activités consécutives et une prise en charge à partir de 9h15 et jusqu’à 12h45\, tout en bénéficiant d’un tarif très avantageux. \nVotre enfant choisira trois activités parmi les six activités suivantes: Foot\, anglais créatif\, gymnastique\, danse classique\, tennis et/ou théâtre. \nChacune de ces activités est dirigée par un professeur/ coach diplômé. \nChaque mercredi\, votre enfant aura la chance de participer à 3 activités totalement différentes mais complémentaires qui lui permettront de s’épanouir pleinement et révéler tous ses talents.
URL:https://apprends-et-reve.fr/activite/copie-de-mercredi-multi-activites-de-langlais-au-foot-en-passant-par-le-tennis-la-danse-la-gym-et-le-theatre/2026-04-22/
LOCATION:TEP Sarrail\, 8 Avenue du Général Sarrail\, Paris\, 75016\, France
CATEGORIES:Multi activités
ATTACH;FMTTYPE=image/jpeg:https://apprends-et-reve.fr/wp-content/uploads/2022/03/enfants-heureux-2.jpg
GEO:48.8457833;2.2559899
X-APPLE-STRUCTURED-LOCATION;VALUE=URI;X-ADDRESS=TEP Sarrail 8 Avenue du Général Sarrail Paris 75016 France;X-APPLE-RADIUS=500;X-TITLE=8 Avenue du Général Sarrail:geo:2.2559899,48.8457833
END:VEVENT
BEGIN:VEVENT
DTSTART;TZID=Europe/Paris:20260422T130000
DTEND;TZID=Europe/Paris:20260422T173000
DTSTAMP:20260425T171617
CREATED:20250515T234219Z
LAST-MODIFIED:20250522T095759Z
UID:10018843-1776862800-1776879000@apprends-et-reve.fr
SUMMARY:Mercredi multi activités: Du tennis au judo en passant par l'athlétisme\, le dessin\, l'anglais et le théâtre
DESCRIPTION:Avec cette formule\, nous proposons à vos enfants de participer à plusieurs activités consécutives et une prise en charge entre 13h00 et 17h30\, tout en bénéficiant d’un tarif très avantageux. \nVotre enfant choisira entre deux et quatre activités parmi les six activités suivantes: Athlétisme\, anglais\, judo\, tennis\, dessin et/ou théâtre. \nChacune de ces activités est dirigée par un professeur/ coach diplômé. \nChaque mercredi\, votre enfant aura la chance de participer à plusieurs activités totalement différentes mais complémentaires qui lui permettront de s’épanouir pleinement et révéler tous ses talents.
URL:https://apprends-et-reve.fr/activite/mercredi-multi-activites-du-tennis-au-judo-en-passant-par-lathletisme-le-dessin-langlais-et-le-theatre/2026-04-22/
LOCATION:TEP Sarrail\, 8 Avenue du Général Sarrail\, Paris\, 75016\, France
CATEGORIES:Multi activités
ATTACH;FMTTYPE=image/jpeg:https://apprends-et-reve.fr/wp-content/uploads/2025/01/enfants-heureux-2.jpg
GEO:48.8457833;2.2559899
X-APPLE-STRUCTURED-LOCATION;VALUE=URI;X-ADDRESS=TEP Sarrail 8 Avenue du Général Sarrail Paris 75016 France;X-APPLE-RADIUS=500;X-TITLE=8 Avenue du Général Sarrail:geo:2.2559899,48.8457833
END:VEVENT
BEGIN:VEVENT
DTSTART;TZID=Europe/Paris:20260422T130000
DTEND;TZID=Europe/Paris:20260422T173000
DTSTAMP:20260425T171617
CREATED:20250515T235311Z
LAST-MODIFIED:20250523T124548Z
UID:10020951-1776862800-1776879000@apprends-et-reve.fr
SUMMARY:Mercredi multi activités: du cinéma à la boxe en passant par le judo\, le théâtre\, le dessin\, le basket\, l'anglais\, la GR et l'athlétisme
DESCRIPTION:Avec cette formule\, nous proposons à vos enfants de participer à 3 ou 4 activités consécutives et une prise en charge entre 13h00 et 17h30\, tout en bénéficiant d’un tarif très avantageux. \nVotre enfant choisira trois ou quatre activités parmi les neuf activités suivantes: Cinéma\, anglais\, GR\, athlétisme\, basket\, judo\, dessin\, boxe et/ou théâtre. \nChacune de ces activités est dirigée par un professeur/ coach diplômé. \nChaque mercredi\, votre enfant aura la chance de participer à 3 ou 4 activités totalement différentes mais complémentaires qui lui permettront de s’épanouir pleinement et révéler tous ses talents.
URL:https://apprends-et-reve.fr/activite/mercredi-multi-activites-du-cinema-a-la-boxe-en-passant-par-le-judo-le-theatre-le-dessin-le-basket-langlais-la-gr-et-lathletisme/2026-04-22/
LOCATION:TEP Sarrail\, 8 Avenue du Général Sarrail\, Paris\, 75016\, France
CATEGORIES:Multi activités
ATTACH;FMTTYPE=image/jpeg:https://apprends-et-reve.fr/wp-content/uploads/2022/05/groupe-enfants-heureux-Depositphotos_22246387_S.jpg
GEO:48.8457833;2.2559899
X-APPLE-STRUCTURED-LOCATION;VALUE=URI;X-ADDRESS=TEP Sarrail 8 Avenue du Général Sarrail Paris 75016 France;X-APPLE-RADIUS=500;X-TITLE=8 Avenue du Général Sarrail:geo:2.2559899,48.8457833
END:VEVENT
BEGIN:VEVENT
DTSTART;TZID=Europe/Paris:20260422T140000
DTEND;TZID=Europe/Paris:20260422T171500
DTSTAMP:20260425T171617
CREATED:20250516T000230Z
LAST-MODIFIED:20250523T125958Z
UID:10020990-1776866400-1776878100@apprends-et-reve.fr
SUMMARY:Mercredi multi activités: des sciences et jardinage à créativité en passant par le hip hop et la musique
DESCRIPTION:Avec cette formule\, nous proposons à vos enfants de participer à plusieurs activités consécutives et une prise en charge de 14h00 à 17h15\, tout en bénéficiant d’un tarif très avantageux. \nVotre enfant choisira entre deux et trois activités parmi les quatre activités suivantes: Sciences et jardinage\, initiation au Hip Hop\, musique et/ou créativité. \nChacune de ces activités est dirigée par un professeur diplômé. \nChaque mercredi\, votre enfant aura la chance de participer à plusieurs activités totalement différentes mais complémentaires qui lui permettront de s’épanouir pleinement et révéler tous ses talents.
URL:https://apprends-et-reve.fr/activite/mercredi-multi-activites-des-sciences-et-jardinage-a-creativite-en-passant-par-le-hip-hop-et-la-musique/2026-04-22/
LOCATION:Apprends et rêve\, 69\, rue de l’Assomption\, Paris\, 75016\, France
CATEGORIES:Multi activités
ATTACH;FMTTYPE=image/jpeg:https://apprends-et-reve.fr/wp-content/uploads/2021/04/Enfants-nature-Depositphotos_294841624_s-2019.jpg
GEO:48.8536915;2.2782619
X-APPLE-STRUCTURED-LOCATION;VALUE=URI;X-ADDRESS=Apprends et rêve 69 rue de l’Assomption Paris 75016 France;X-APPLE-RADIUS=500;X-TITLE=69\, rue de l’Assomption:geo:2.2782619,48.8536915
END:VEVENT
BEGIN:VEVENT
DTSTART;TZID=Europe/Paris:20260422T140000
DTEND;TZID=Europe/Paris:20260422T180000
DTSTAMP:20260425T171617
CREATED:20250516T001212Z
LAST-MODIFIED:20250521T125632Z
UID:10019002-1776866400-1776880800@apprends-et-reve.fr
SUMMARY:Mercredi multi activités: dessin académique + hip hop + couture
DESCRIPTION:Avec cette formule\, nous proposons à vos enfants de participer à trois activités consécutives et une prise en charge entre 14h00 et 18h00\, tout en bénéficiant d’un tarif très avantageux. \nVotre enfant fera les trois activités suivantes: Dessin académique\, hip hop et couture. \nChacune de ces activités est dirigée par un professeur diplômé. \nChaque mercredi\, votre enfant aura la chance de participer à 3 activités totalement différentes mais complémentaires qui lui permettront de s’épanouir pleinement et révéler tous ses talents.
URL:https://apprends-et-reve.fr/activite/mercredi-multi-activites-dessin-academique-hip-hop-couture/2026-04-22/
LOCATION:Apprends et rêve\, 69\, rue de l’Assomption\, Paris\, 75016\, France
CATEGORIES:Multi activités
ATTACH;FMTTYPE=image/jpeg:https://apprends-et-reve.fr/wp-content/uploads/2021/05/Danse-enfant-2.jpg
GEO:48.8536915;2.2782619
X-APPLE-STRUCTURED-LOCATION;VALUE=URI;X-ADDRESS=Apprends et rêve 69 rue de l’Assomption Paris 75016 France;X-APPLE-RADIUS=500;X-TITLE=69\, rue de l’Assomption:geo:2.2782619,48.8536915
END:VEVENT
END:VCALENDAR