

BEGIN:VCALENDAR
VERSION:2.0
PRODID:-//Apprends et Rêve - ECPv6.15.20//NONSGML v1.0//EN
CALSCALE:GREGORIAN
METHOD:PUBLISH
X-WR-CALNAME:Apprends et Rêve
X-ORIGINAL-URL:https://apprends-et-reve.fr
X-WR-CALDESC:Évènements pour Apprends et Rêve
REFRESH-INTERVAL;VALUE=DURATION:PT1H
X-Robots-Tag:noindex
X-PUBLISHED-TTL:PT1H
BEGIN:VTIMEZONE
TZID:Europe/Paris
BEGIN:DAYLIGHT
TZOFFSETFROM:+0100
TZOFFSETTO:+0200
TZNAME:CEST
DTSTART:20230326T010000
END:DAYLIGHT
BEGIN:STANDARD
TZOFFSETFROM:+0200
TZOFFSETTO:+0100
TZNAME:CET
DTSTART:20231029T010000
END:STANDARD
BEGIN:DAYLIGHT
TZOFFSETFROM:+0100
TZOFFSETTO:+0200
TZNAME:CEST
DTSTART:20240331T010000
END:DAYLIGHT
BEGIN:STANDARD
TZOFFSETFROM:+0200
TZOFFSETTO:+0100
TZNAME:CET
DTSTART:20241027T010000
END:STANDARD
BEGIN:DAYLIGHT
TZOFFSETFROM:+0100
TZOFFSETTO:+0200
TZNAME:CEST
DTSTART:20250330T010000
END:DAYLIGHT
BEGIN:STANDARD
TZOFFSETFROM:+0200
TZOFFSETTO:+0100
TZNAME:CET
DTSTART:20251026T010000
END:STANDARD
END:VTIMEZONE
BEGIN:VEVENT
DTSTART;TZID=Europe/Paris:20241113T171500
DTEND;TZID=Europe/Paris:20241113T183000
DTSTAMP:20260423T171900
CREATED:20201125T092140Z
LAST-MODIFIED:20240513T214444Z
UID:10008985-1731518100-1731522600@apprends-et-reve.fr
SUMMARY:Être créatif\, c'est tout un Art
DESCRIPTION:Pour certains artistes contemporains\, ne pas savoir dessiner est un plus. Il permet à la créativité de s’exprimer plus librement et complètement. Avec l’atelier arts plastiques\, les enfants ne vont pas apprendre à dessiner mais à laisser voguer leur imagination. Ils vont apprendre à travailler des matériaux aussi divers que la terre\, le fil de fer\, le tissu\, le carton\, le papier\, de la mosaïque\, la laine\, la mousse expansive… \nIls utiliseront crayons papier\, crayons de couleur\, feutres\, peinture. Ils découperont\, colleront\, agraferont\, plieront… Ils créeront des histoires\, feront des romans-photos\, des films\, des installations\, mêlant musique\, histoire\, images. Les enfants seront des artistes à part entière.
URL:https://apprends-et-reve.fr/activite/laisser-sexprimer-sa-creativite-5/2024-11-13/
LOCATION:Apprends et rêve\, 69\, rue de l’Assomption\, Paris\, 75016\, France
CATEGORIES:Arts plastiques / créativité,Musique / son
ATTACH;FMTTYPE=image/jpeg:https://apprends-et-reve.fr/wp-content/uploads/2020/09/img_categorie_theme_arts_plastiques_home.jpg
GEO:48.8536915;2.2782619
X-APPLE-STRUCTURED-LOCATION;VALUE=URI;X-ADDRESS=Apprends et rêve 69 rue de l’Assomption Paris 75016 France;X-APPLE-RADIUS=500;X-TITLE=69\, rue de l’Assomption:geo:2.2782619,48.8536915
END:VEVENT
BEGIN:VEVENT
DTSTART;TZID=Europe/Paris:20241113T163000
DTEND;TZID=Europe/Paris:20241113T180000
DTSTAMP:20260423T171900
CREATED:20220519T172738Z
LAST-MODIFIED:20240513T213256Z
UID:10013146-1731515400-1731520800@apprends-et-reve.fr
SUMMARY:Premiers points dans la Haute Couture
DESCRIPTION:Avec cet atelier dirigé par Isabelle\, ancienne de Dior\, Chanel\, Lanvin et formatrice à l’Institut de la Mode\, nous proposons aux enfants d’apprendre l’art de la couture et les techniques pour réaliser\, finitions comprises\, des tenues originales. \nDu patronage à la réalisation finale\, votre enfant va mettre en œuvre un ensemble de techniques assemblage\, ourlet\, parementure\, revers de jambe et poches. \nDurant cet atelier\, votre enfant va aussi faire appel à ses compétences en logique\, mathématique\, géométrie dans l’espace .Et oui ! coudre c’est compter\, mesurer\, tracer\, multiplier\, anticiper\, se projeter. Il aura\, presque à son insu\, mis en pratique des notions « scolaires » et pourra en afficher fièrement le résultat ! De quoi éblouir.
URL:https://apprends-et-reve.fr/activite/premiers-points-dans-la-haute-couture/2024-11-13/
LOCATION:Apprends et rêve\, 69\, rue de l’Assomption\, Paris\, 75016\, France
CATEGORIES:Couture
ATTACH;FMTTYPE=image/jpeg:https://apprends-et-reve.fr/wp-content/uploads/2021/11/Couture-Depositphotos_243661562_S.jpg
GEO:48.8536915;2.2782619
X-APPLE-STRUCTURED-LOCATION;VALUE=URI;X-ADDRESS=Apprends et rêve 69 rue de l’Assomption Paris 75016 France;X-APPLE-RADIUS=500;X-TITLE=69\, rue de l’Assomption:geo:2.2782619,48.8536915
END:VEVENT
BEGIN:VEVENT
DTSTART;TZID=Europe/Paris:20241113T160000
DTEND;TZID=Europe/Paris:20241113T173000
DTSTAMP:20260423T171900
CREATED:20201125T084707Z
LAST-MODIFIED:20240513T212456Z
UID:10008885-1731513600-1731519000@apprends-et-reve.fr
SUMMARY:Comédie musicale: Du rêve à la scène\, pour les 5-8 ans
DESCRIPTION:CET ATELIER EST DESTINÉ AUX ENFANTS ÂGÉS DE 5 À 8 ANS UNIQUEMENT – Chant\, danse\, théâtre et musique sont les fils directeur de cet atelier. Danser\, jouer et chanter de manière simultanée\, mais aussi raconter une histoire. Les enfants apprendront une chorégraphie\, mais surtout à chanter et danser dans un ensemble. Tous en même temps chantant la même partition\, dansant la même chorégraphie et racontant la même histoire. Telle est la force de la comédie musicale.\nIls seront pour cela entourés et dirigés par trois grands professionnels qui\, pour la première fois\, enseigneront dans le XVIème arrondissement de Paris : Stephy Haik (chant)\, Maria Laura Baccarini (théâtre et danse) et Sébastien Ménard (piano).
URL:https://apprends-et-reve.fr/activite/du-reve-a-la-scene-2/2024-11-13/
LOCATION:Apprends et rêve\, 69\, rue de l’Assomption\, Paris\, 75016\, France
CATEGORIES:Comédie musicale,Danse,Musique / son,Théâtre
ATTACH;FMTTYPE=image/jpeg:https://apprends-et-reve.fr/wp-content/uploads/2017/01/comedie2015-50-e1489508546134-scaled.jpg
GEO:48.8536915;2.2782619
X-APPLE-STRUCTURED-LOCATION;VALUE=URI;X-ADDRESS=Apprends et rêve 69 rue de l’Assomption Paris 75016 France;X-APPLE-RADIUS=500;X-TITLE=69\, rue de l’Assomption:geo:2.2782619,48.8536915
END:VEVENT
BEGIN:VEVENT
DTSTART;TZID=Europe/Paris:20241113T150000
DTEND;TZID=Europe/Paris:20241113T160000
DTSTAMP:20260423T171900
CREATED:20201127T111154Z
LAST-MODIFIED:20240513T204910Z
UID:10011884-1731510000-1731513600@apprends-et-reve.fr
SUMMARY:Hip Hop: L' art du mouvement
DESCRIPTION:L’ atelier hebdomadaire de hip-hop permet aux enfants et aux jeunes de jouer avec des codes et des sonorités actuelles. Vecteur de connaissance de son corps et de confiance en soi à travers la découverte de figures debout ou au sol\, la danse hip-hop dite breakdance développe également la créativité des enfants à travers l’improvisation (freestyle). \nPar les chorégraphies\, le hip-hop est aussi un moment d’échange privilégié et de partage.\nDans cet atelier\, les enfants apprendront les figures de base de cet art\, leur permettant ainsi de commencer à improviser et s’amuser en rythme.
URL:https://apprends-et-reve.fr/activite/l-art-du-mouvement-2/2024-11-13/
LOCATION:Apprends et rêve\, 69\, rue de l’Assomption\, Paris\, 75016\, France
CATEGORIES:Danse,Hip Hop/Breakdance
ATTACH;FMTTYPE=image/jpeg:https://apprends-et-reve.fr/wp-content/uploads/2020/09/img_categorie_theme_breakdance_home.jpg
GEO:48.8536915;2.2782619
X-APPLE-STRUCTURED-LOCATION;VALUE=URI;X-ADDRESS=Apprends et rêve 69 rue de l’Assomption Paris 75016 France;X-APPLE-RADIUS=500;X-TITLE=69\, rue de l’Assomption:geo:2.2782619,48.8536915
END:VEVENT
END:VCALENDAR