

BEGIN:VCALENDAR
VERSION:2.0
PRODID:-//Apprends et Rêve - ECPv6.15.20//NONSGML v1.0//EN
CALSCALE:GREGORIAN
METHOD:PUBLISH
X-WR-CALNAME:Apprends et Rêve
X-ORIGINAL-URL:https://apprends-et-reve.fr
X-WR-CALDESC:Évènements pour Apprends et Rêve
REFRESH-INTERVAL;VALUE=DURATION:PT1H
X-Robots-Tag:noindex
X-PUBLISHED-TTL:PT1H
BEGIN:VTIMEZONE
TZID:Europe/Paris
BEGIN:DAYLIGHT
TZOFFSETFROM:+0100
TZOFFSETTO:+0200
TZNAME:CEST
DTSTART:20250330T010000
END:DAYLIGHT
BEGIN:STANDARD
TZOFFSETFROM:+0200
TZOFFSETTO:+0100
TZNAME:CET
DTSTART:20251026T010000
END:STANDARD
BEGIN:DAYLIGHT
TZOFFSETFROM:+0100
TZOFFSETTO:+0200
TZNAME:CEST
DTSTART:20260329T010000
END:DAYLIGHT
BEGIN:STANDARD
TZOFFSETFROM:+0200
TZOFFSETTO:+0100
TZNAME:CET
DTSTART:20261025T010000
END:STANDARD
BEGIN:DAYLIGHT
TZOFFSETFROM:+0100
TZOFFSETTO:+0200
TZNAME:CEST
DTSTART:20270328T010000
END:DAYLIGHT
BEGIN:STANDARD
TZOFFSETFROM:+0200
TZOFFSETTO:+0100
TZNAME:CET
DTSTART:20271031T010000
END:STANDARD
END:VTIMEZONE
BEGIN:VEVENT
DTSTART;TZID=Europe/Paris:20260420T093000
DTEND;TZID=Europe/Paris:20260424T123000
DTSTAMP:20260420T100205
CREATED:20250424T144447Z
LAST-MODIFIED:20260331T102921Z
UID:10015662-1776677400-1777033800@apprends-et-reve.fr
SUMMARY:La Couture pour les ados
DESCRIPTION:Et si on interpellait le printemps ? Avec ce top ou cette jupe portefeuille\, votre ado va apprendre les bases de la couture « machine » \nDu patronage à la réalisation finale de cette pièce\, il va mettre en œuvre un ensemble de techniques assemblage\, ourlet\, parementure\, revers de manche et poche plaquée. \nDurant ce stage\, votre ado va aussi faire appel à ses compétences en logique\, mathématique\, géométrie dans l’espace. \nEt oui ! coudre c’est compter\, mesurer\, tracer\, multiplier\, anticiper\, se projeter. \nIl aura\, presque à son insu\, mis en pratique des notions « scolaires » et pourra en afficher fièrement le résultat ! \nLes ateliers sont encadrés par une professionnelle ayant l’habitude de travailler avec les ados.
URL:https://apprends-et-reve.fr/activite/couture-de-quoi-shabiller-cet-ete-2/
LOCATION:Apprends et rêve\, 69\, rue de l’Assomption\, Paris\, 75016\, France
CATEGORIES:Couture
ATTACH;FMTTYPE=image/jpeg:https://apprends-et-reve.fr/wp-content/uploads/2025/04/Couture-ados-3-e1745505873372.jpg
GEO:48.8536915;2.2782619
X-APPLE-STRUCTURED-LOCATION;VALUE=URI;X-ADDRESS=Apprends et rêve 69 rue de l’Assomption Paris 75016 France;X-APPLE-RADIUS=500;X-TITLE=69\, rue de l’Assomption:geo:2.2782619,48.8536915
END:VEVENT
BEGIN:VEVENT
DTSTART;TZID=Europe/Paris:20260420T133000
DTEND;TZID=Europe/Paris:20260424T150000
DTSTAMP:20260420T100205
CREATED:20260316T165232Z
LAST-MODIFIED:20260331T101732Z
UID:10021945-1776691800-1777042800@apprends-et-reve.fr
SUMMARY:🥋 Self-défense pour les ados
DESCRIPTION:Apprendre à se protéger et à réagir avec calme face à différentes situations. Cet atelier propose une initiation à des techniques simples de self-défense tout en développant confiance en soi\, maîtrise de soi et respect des autres. 
URL:https://apprends-et-reve.fr/activite/%f0%9f%a5%8b-self-defense-pour-les-ados/
LOCATION:Gymnase des Bauches\, 14 rue des Bauches\, Paris\, 75016\, France
CATEGORIES:Activité physique / sportive
ATTACH;FMTTYPE=image/webp:https://apprends-et-reve.fr/wp-content/uploads/2026/03/self-defense.webp
GEO:48.8560433;2.2738702
X-APPLE-STRUCTURED-LOCATION;VALUE=URI;X-ADDRESS=Gymnase des Bauches 14 rue des Bauches Paris 75016 France;X-APPLE-RADIUS=500;X-TITLE=14 rue des Bauches:geo:2.2738702,48.8560433
END:VEVENT
BEGIN:VEVENT
DTSTART;TZID=Europe/Paris:20260420T133000
DTEND;TZID=Europe/Paris:20260424T160000
DTSTAMP:20260420T100205
CREATED:20250424T095400Z
LAST-MODIFIED:20260331T100818Z
UID:10015642-1776691800-1777046400@apprends-et-reve.fr
SUMMARY:🧗 Parkour pour les ados
DESCRIPTION:Sauter\, grimper\, franchir des obstacles et se déplacer avec agilité : le parkour transforme l’espace en véritable terrain d’aventure.À travers des parcours et des exercices progressifs\, les adolescents apprennent à maîtriser leurs mouvements\, développer leur coordination et gagner en confiance. \nCet atelier dynamique permet d’améliorer force\, équilibre et agilité\, tout en apprenant à relever des défis et à repousser ses limites dans un cadre sécurisé. \n 
URL:https://apprends-et-reve.fr/activite/du-parkour-au-chase-tag-deviens-un-winner-des-nouveaux-sports-phenomenes-5/
LOCATION:Gymnase des Bauches\, 14 rue des Bauches\, Paris\, 75016\, France
CATEGORIES:Activité physique / sportive
ATTACH;FMTTYPE=image/jpeg:https://apprends-et-reve.fr/wp-content/uploads/2023/05/Chase-Tag-3.jpg
GEO:48.8560433;2.2738702
X-APPLE-STRUCTURED-LOCATION;VALUE=URI;X-ADDRESS=Gymnase des Bauches 14 rue des Bauches Paris 75016 France;X-APPLE-RADIUS=500;X-TITLE=14 rue des Bauches:geo:2.2738702,48.8560433
END:VEVENT
BEGIN:VEVENT
DTSTART;TZID=Europe/Paris:20260420T133000
DTEND;TZID=Europe/Paris:20260424T160000
DTSTAMP:20260420T100205
CREATED:20250429T090044Z
LAST-MODIFIED:20260331T100809Z
UID:10015627-1776691800-1777046400@apprends-et-reve.fr
SUMMARY:🏛 Design & Architecture pour les ados
DESCRIPTION:Imaginer\, concevoir et donner forme à ses idées : cet atelier invite les adolescents à découvrir les bases du design et de l’architecture.\nÀ travers le dessin\, l’observation et la création de projets\, ils explorent la manière dont les espaces\, les objets et les bâtiments sont pensés et construits.  \nLes participants développent leur sens de l’esthétique\, leur créativité et leur capacité à concevoir un projet\, tout en découvrant les principes essentiels du design et de l’architecture.
URL:https://apprends-et-reve.fr/activite/7-11-ans-mysterieuse-cleopatre/
LOCATION:Apprends et rêve\, 69\, rue de l’Assomption\, Paris\, 75016\, France
CATEGORIES:Dessin académique
ATTACH;FMTTYPE=image/jpeg:https://apprends-et-reve.fr/wp-content/uploads/2025/04/architecture.jpg
GEO:48.8536915;2.2782619
X-APPLE-STRUCTURED-LOCATION;VALUE=URI;X-ADDRESS=Apprends et rêve 69 rue de l’Assomption Paris 75016 France;X-APPLE-RADIUS=500;X-TITLE=69\, rue de l’Assomption:geo:2.2782619,48.8536915
END:VEVENT
BEGIN:VEVENT
DTSTART;TZID=Europe/Paris:20260420T133000
DTEND;TZID=Europe/Paris:20260424T163000
DTSTAMP:20260420T100205
CREATED:20250424T161448Z
LAST-MODIFIED:20260331T101619Z
UID:10015670-1776691800-1777048200@apprends-et-reve.fr
SUMMARY:🎥 Cinéma pour les ados
DESCRIPTION:Au cours de ce stage\, les ados vont réaliser un court-métrage collectivement. Ils vont s’initier à la réalisation et au montage vidéo et vont découvrir le vocabulaire du cinéma et comprendre la réalisation d’un film. Ils vont commencer par créer une histoire et élaborer un scénario\, à partir duquel ils vont créer un « story-board ». Place ensuite au tournage : les ados se font acteurs\, preneurs de sons\, régisseur lumières…  \nUne fois la « mise en boîte » terminée\, les ados s’initieront au montage. Ils regarderont les «rushs»\, «couperont» les «plans»\, les «organiseront»\, ajouteront une «bande-son» et un «générique» et réaliseront l’affiche de leur court-métrage.  
URL:https://apprends-et-reve.fr/activite/theatre-et-cinema-apprends-a-jouer-et-texprimer-sur-scene-et-devant-une-camera-2/
LOCATION:Apprends et rêve\, 69\, rue de l’Assomption\, Paris\, 75016\, France
CATEGORIES:Arts visuels,Cinéma / vidéo,Théâtre
ATTACH;FMTTYPE=image/jpeg:https://apprends-et-reve.fr/wp-content/uploads/2025/03/broadcast_362683840_S.jpg
GEO:48.8536915;2.2782619
X-APPLE-STRUCTURED-LOCATION;VALUE=URI;X-ADDRESS=Apprends et rêve 69 rue de l’Assomption Paris 75016 France;X-APPLE-RADIUS=500;X-TITLE=69\, rue de l’Assomption:geo:2.2782619,48.8536915
END:VEVENT
BEGIN:VEVENT
DTSTART;TZID=Europe/Paris:20260420T140000
DTEND;TZID=Europe/Paris:20260424T163000
DTSTAMP:20260420T100205
CREATED:20260316T174854Z
LAST-MODIFIED:20260331T100404Z
UID:10021955-1776693600-1777048200@apprends-et-reve.fr
SUMMARY:🤖 Intelligence artificielle & robotique pour les ados
DESCRIPTION:Les adolescents découvrent les bases de l’intelligence artificielle et de la robotique à travers des activités concrètes et interactives.Ils apprennent comment fonctionnent les algorithmes\, comment un robot peut être programmé et comment les machines peuvent analyser des données ou prendre des décisions. \nÀ travers des expérimentations et de petits projets\, les participants développent leur logique\, leur créativité et leur compréhension des technologies qui façonnent le monde de demain. Un atelier passionnant pour explorer les métiers du futur.
URL:https://apprends-et-reve.fr/activite/%f0%9f%a4%96-intelligence-artificielle-robotique-pour-les-ados/
LOCATION:Apprends et rêve\, 69\, rue de l’Assomption\, Paris\, 75016\, France
CATEGORIES:Informatique et numérique,Robotique
ATTACH;FMTTYPE=image/jpeg:https://apprends-et-reve.fr/wp-content/uploads/2026/03/IA-et-robotique.jpeg
GEO:48.8536915;2.2782619
X-APPLE-STRUCTURED-LOCATION;VALUE=URI;X-ADDRESS=Apprends et rêve 69 rue de l’Assomption Paris 75016 France;X-APPLE-RADIUS=500;X-TITLE=69\, rue de l’Assomption:geo:2.2782619,48.8536915
END:VEVENT
BEGIN:VEVENT
DTSTART;TZID=Europe/Paris:20260421T133000
DTEND;TZID=Europe/Paris:20260422T160000
DTSTAMP:20260420T100205
CREATED:20260116T094125Z
LAST-MODIFIED:20260331T095934Z
UID:10021696-1776778200-1776873600@apprends-et-reve.fr
SUMMARY:🧑‍🍳 Cuisine & Pâtisserie pour les ados
DESCRIPTION:Pendant ce stage de cuisine et pâtisserie\, les adolescents découvrent le plaisir de cuisiner tout en développant leur créativité et leur autonomie. Guidés par une professeure passionnée\, ils apprennent à réaliser des recettes gourmandes\, salées et sucrées\, adaptées à leur âge et à leur niveau. \nAu fil des ateliers\, les participants découvrent les bases de la cuisine et de la pâtisserie : techniques essentielles\, règles d’hygiène\, organisation en cuisine et travail en équipe. Chaque séance est rythmée par la pratique\, la bonne humeur et la dégustation des créations réalisées. \nCe stage est l’occasion idéale de prendre confiance en soi\, de s’amuser en cuisinant et de repartir avec de nouvelles compétences… comme de vrais Chefs Juniors 🧑‍🍳
URL:https://apprends-et-reve.fr/activite/cuisine-patisserie-realise-des-recettes-gourmandes-et-deviens-chef-junior%f0%9f%a7%91%f0%9f%8f%bb%f0%9f%8d%b3/
LOCATION:Apprends et rêve\, 69\, rue de l’Assomption\, Paris\, 75016\, France
CATEGORIES:Cuisine
ATTACH;FMTTYPE=image/jpeg:https://apprends-et-reve.fr/wp-content/uploads/2021/04/ados-fille-cuisine-Depositphotos_352563832_s-2019.jpg
GEO:48.8536915;2.2782619
X-APPLE-STRUCTURED-LOCATION;VALUE=URI;X-ADDRESS=Apprends et rêve 69 rue de l’Assomption Paris 75016 France;X-APPLE-RADIUS=500;X-TITLE=69\, rue de l’Assomption:geo:2.2782619,48.8536915
END:VEVENT
BEGIN:VEVENT
DTSTART;TZID=Europe/Paris:20260427T133000
DTEND;TZID=Europe/Paris:20260429T160000
DTSTAMP:20260420T100205
CREATED:20251113T150503Z
LAST-MODIFIED:20260331T093241Z
UID:10021677-1777296600-1777478400@apprends-et-reve.fr
SUMMARY:🧑🏻‍🍳 Cuisine et Pâtisseries pour les ados
DESCRIPTION:Pendant ce stage de cuisine et pâtisserie\, les adolescents découvrent le plaisir de cuisiner tout en développant leur créativité et leur autonomie. Guidés par une professeure passionnée\, ils apprennent à réaliser des recettes gourmandes\, salées et sucrées\, adaptées à leur âge et à leur niveau.  \nAu fil des ateliers\, les participants découvrent les bases de la cuisine et de la pâtisserie : techniques essentielles\, règles d’hygiène\, organisation en cuisine et travail en équipe. Chaque séance est rythmée par la pratique\, la bonne humeur et la dégustation des créations réalisées.  \nCe stage est l’occasion idéale de prendre confiance en soi\, de s’amuser en cuisinant et de repartir avec de nouvelles compétences… comme de vrais Chefs Juniors 🧑‍🍳 
URL:https://apprends-et-reve.fr/activite/%f0%9f%8e%84-%e2%9c%a8-noel-sucre-creations-magiques-a-realiser-et-a-croquer-%f0%9f%8e%84/
LOCATION:Apprends et rêve\, 69\, rue de l’Assomption\, Paris\, 75016\, France
CATEGORIES:Cuisine
ATTACH;FMTTYPE=image/jpeg:https://apprends-et-reve.fr/wp-content/uploads/2021/01/garcon-cuisine-Depositphotos_36026679_s-2019.jpg
GEO:48.8536915;2.2782619
X-APPLE-STRUCTURED-LOCATION;VALUE=URI;X-ADDRESS=Apprends et rêve 69 rue de l’Assomption Paris 75016 France;X-APPLE-RADIUS=500;X-TITLE=69\, rue de l’Assomption:geo:2.2782619,48.8536915
END:VEVENT
BEGIN:VEVENT
DTSTART;TZID=Europe/Paris:20260427T133000
DTEND;TZID=Europe/Paris:20260430T150000
DTSTAMP:20260420T100205
CREATED:20260316T165737Z
LAST-MODIFIED:20260331T093006Z
UID:10021946-1777296600-1777561200@apprends-et-reve.fr
SUMMARY:🥋 Self-défense pour les ados
DESCRIPTION: Apprendre à se protéger et à réagir avec calme face à différentes situations.\nCet atelier propose une initiation à des techniques simples de self-défense tout en développant confiance en soi\, maîtrise de soi et respect des autres. 
URL:https://apprends-et-reve.fr/activite/%f0%9f%a5%8b-self-defense-pour-les-ados-2/
LOCATION:Gymnase des Bauches\, 14 rue des Bauches\, Paris\, 75016\, France
CATEGORIES:Activité physique / sportive
ATTACH;FMTTYPE=image/webp:https://apprends-et-reve.fr/wp-content/uploads/2026/03/self-defense.webp
GEO:48.8560433;2.2738702
X-APPLE-STRUCTURED-LOCATION;VALUE=URI;X-ADDRESS=Gymnase des Bauches 14 rue des Bauches Paris 75016 France;X-APPLE-RADIUS=500;X-TITLE=14 rue des Bauches:geo:2.2738702,48.8560433
END:VEVENT
BEGIN:VEVENT
DTSTART;TZID=Europe/Paris:20260427T133000
DTEND;TZID=Europe/Paris:20260430T153000
DTSTAMP:20260420T100205
CREATED:20250424T102346Z
LAST-MODIFIED:20260331T092955Z
UID:10015644-1777296600-1777563000@apprends-et-reve.fr
SUMMARY:💻 Python pour les ados
DESCRIPTION:Les adolescents découvrent les bases du langage de programmation Python\, l’un des langages les plus utilisés aujourd’hui dans le monde du numérique et de l’intelligence artificielle.À travers des exercices progressifs et de petits projets concrets\, ils apprennent les principes essentiels du codage : logique\, variables\, boucles et création de programmes simples. \nUn atelier stimulant qui développe la réflexion\, la résolution de problèmes et la compréhension du fonctionnement des technologies qui nous entourent.
URL:https://apprends-et-reve.fr/activite/apprendre-a-coder-avec-le-langage-python-cest-passionnant/
LOCATION:Apprends et rêve\, 69\, rue de l’Assomption\, Paris\, 75016\, France
CATEGORIES:Codage,Informatique et numérique
ATTACH;FMTTYPE=image/jpeg:https://apprends-et-reve.fr/wp-content/uploads/2025/04/Python.jpg
GEO:48.8536915;2.2782619
X-APPLE-STRUCTURED-LOCATION;VALUE=URI;X-ADDRESS=Apprends et rêve 69 rue de l’Assomption Paris 75016 France;X-APPLE-RADIUS=500;X-TITLE=69\, rue de l’Assomption:geo:2.2782619,48.8536915
END:VEVENT
BEGIN:VEVENT
DTSTART;TZID=Europe/Paris:20260427T133000
DTEND;TZID=Europe/Paris:20260430T153000
DTSTAMP:20260420T100205
CREATED:20260115T112421Z
LAST-MODIFIED:20260331T092942Z
UID:10021693-1777296600-1777563000@apprends-et-reve.fr
SUMMARY:Dessin Académique pour les ados
DESCRIPTION:Tu rêves de maîtriser le dessin comme un vrai artiste ? Ce stage est conçu pour t’initier aux fondamentaux du dessin académique\, tout en développant ton style et ta précision. \nPendant plusieurs jours\, tu apprendras à : \n\nObserver et reproduire : analyser les formes\, les proportions et les volumes pour les représenter fidèlement.\nMaîtriser les ombres et lumières : donner du relief et de la profondeur à tes dessins grâce au clair-obscur.\nÉtudier les bases du portrait et du corps humain : proportions\, anatomie simplifiée et expressions faciales.\nDessiner d’après nature : objets\, paysages et modèles pour améliorer ton regard artistique.\nTravailler différents outils : crayon\, fusain\, pastel et encre pour enrichir tes créations.\n\nChaque atelier est conçu pour être progressif et concret. Tu commenceras par les bases de l’observation\, puis tu apprendras à appliquer les techniques classiques pour créer des dessins structurés et esthétiques. L’accent est mis sur la rigueur\, la pratique et la patience\, mais toujours dans une ambiance conviviale et motivante. \nÀ la fin du stage\, tu repartiras avec : \n\nUne série de dessins réalisés par toi-même\, montrant tes progrès\nDes techniques solides pour continuer à t’entraîner à la maison\nUne meilleure confiance dans tes capacités d’observation et de reproduction\n\nCe stage est idéal pour tous les ados qui souhaitent apprendre les bases sérieuses du dessin\, progresser rapidement et poser les fondations d’un vrai talent artistique ✏️🎨
URL:https://apprends-et-reve.fr/activite/dessin-deviens-un-veritable-artiste/
LOCATION:Apprends et rêve\, 69\, rue de l’Assomption\, Paris\, 75016\, France
CATEGORIES:Créativité,Dessin académique
ATTACH;FMTTYPE=image/jpeg:https://apprends-et-reve.fr/wp-content/uploads/2020/09/img_categorie_theme_dessin_academique_home.jpg
GEO:48.8536915;2.2782619
X-APPLE-STRUCTURED-LOCATION;VALUE=URI;X-ADDRESS=Apprends et rêve 69 rue de l’Assomption Paris 75016 France;X-APPLE-RADIUS=500;X-TITLE=69\, rue de l’Assomption:geo:2.2782619,48.8536915
END:VEVENT
BEGIN:VEVENT
DTSTART;TZID=Europe/Paris:20260427T133000
DTEND;TZID=Europe/Paris:20260430T160000
DTSTAMP:20260420T100205
CREATED:20250424T095052Z
LAST-MODIFIED:20260331T092857Z
UID:10015641-1777296600-1777564800@apprends-et-reve.fr
SUMMARY:🧗 Parkour pour les ados
DESCRIPTION:Sauter\, grimper\, franchir des obstacles et se déplacer avec agilité : le parkour transforme l’espace en véritable terrain d’aventure.\nÀ travers des parcours et des exercices progressifs\, les adolescents apprennent à maîtriser leurs mouvements\, développer leur coordination et gagner en confiance.  \nCet atelier dynamique permet d’améliorer force\, équilibre et agilité\, tout en apprenant à relever des défis et à repousser ses limites dans un cadre sécurisé.  \n 
URL:https://apprends-et-reve.fr/activite/du-parkour-au-chase-tag-deviens-un-winner-des-nouveaux-sports-phenomenes-2/
LOCATION:Gymnase des Bauches\, 14 rue des Bauches\, Paris\, 75016\, France
CATEGORIES:Activité physique / sportive
ATTACH;FMTTYPE=image/jpeg:https://apprends-et-reve.fr/wp-content/uploads/2023/03/parkour-park-salle-ninja-warrior.jpg
GEO:48.8560433;2.2738702
X-APPLE-STRUCTURED-LOCATION;VALUE=URI;X-ADDRESS=Gymnase des Bauches 14 rue des Bauches Paris 75016 France;X-APPLE-RADIUS=500;X-TITLE=14 rue des Bauches:geo:2.2738702,48.8560433
END:VEVENT
BEGIN:VEVENT
DTSTART;TZID=Europe/Paris:20260427T133000
DTEND;TZID=Europe/Paris:20260430T160000
DTSTAMP:20260420T100205
CREATED:20260316T173118Z
LAST-MODIFIED:20260331T092833Z
UID:10021952-1777296600-1777564800@apprends-et-reve.fr
SUMMARY:🏛 Design & Architecture pour les ados
DESCRIPTION:Imaginer\, concevoir et donner forme à ses idées : cet atelier invite les adolescents à découvrir les bases du design et de l’architecture.\nÀ travers le dessin\, l’observation et la création de projets\, ils explorent la manière dont les espaces\, les objets et les bâtiments sont pensés et construits.  \nLes participants développent leur sens de l’esthétique\, leur créativité et leur capacité à concevoir un projet\, tout en découvrant les principes essentiels du design et de l’architecture. 
URL:https://apprends-et-reve.fr/activite/%f0%9f%8f%9b-design-architecture-pour-les-ados-2/
LOCATION:Apprends et rêve\, 69\, rue de l’Assomption\, Paris\, 75016\, France
CATEGORIES:Créativité
ATTACH;FMTTYPE=image/jpeg:https://apprends-et-reve.fr/wp-content/uploads/2026/03/archiitecture.jpg
GEO:48.8536915;2.2782619
X-APPLE-STRUCTURED-LOCATION;VALUE=URI;X-ADDRESS=Apprends et rêve 69 rue de l’Assomption Paris 75016 France;X-APPLE-RADIUS=500;X-TITLE=69\, rue de l’Assomption:geo:2.2782619,48.8536915
END:VEVENT
BEGIN:VEVENT
DTSTART;TZID=Europe/Paris:20260427T133000
DTEND;TZID=Europe/Paris:20260430T163000
DTSTAMP:20260420T100205
CREATED:20250424T163345Z
LAST-MODIFIED:20260331T092819Z
UID:10015092-1777296600-1777566600@apprends-et-reve.fr
SUMMARY:🎥 Cinéma pour les ados
DESCRIPTION: Au cours de ce stage\, les ados vont réaliser un court-métrage collectivement. Ils vont s’initier à la réalisation et au montage vidéo et vont découvrir le vocabulaire du cinéma et comprendre la réalisation d’un film. Ils vont commencer par créer une histoire et élaborer un scénario\, à partir duquel ils vont créer un « story-board ». Place ensuite au tournage : les ados se font acteurs\, preneurs de sons\, régisseur lumières…  \nUne fois la « mise en boîte » terminée\, les ados s’initieront au montage. Ils regarderont les «rushs»\, «couperont» les «plans»\, les «organiseront»\, ajouteront une «bande-son» et un «générique» et réaliseront l’affiche de leur court-métrage.  
URL:https://apprends-et-reve.fr/activite/cinema-en-anglais-once-upon-a-time-in-hollywood-immersion-en-anglais-2/
LOCATION:Apprends et rêve\, 69\, rue de l’Assomption\, Paris\, 75016\, France
CATEGORIES:Arts visuels,Cinéma / vidéo
ATTACH;FMTTYPE=image/jpeg:https://apprends-et-reve.fr/wp-content/uploads/2025/04/cinema-ados.jpeg
GEO:48.8536915;2.2782619
X-APPLE-STRUCTURED-LOCATION;VALUE=URI;X-ADDRESS=Apprends et rêve 69 rue de l’Assomption Paris 75016 France;X-APPLE-RADIUS=500;X-TITLE=69\, rue de l’Assomption:geo:2.2782619,48.8536915
END:VEVENT
BEGIN:VEVENT
DTSTART;TZID=Europe/Paris:20260427T140000
DTEND;TZID=Europe/Paris:20260430T163000
DTSTAMP:20260420T100205
CREATED:20260316T175502Z
LAST-MODIFIED:20260414T114941Z
UID:10021957-1777298400-1777566600@apprends-et-reve.fr
SUMMARY:🤖 Intelligence artificielle & robotique pour les ados
DESCRIPTION:Les adolescents découvrent les bases de l’intelligence artificielle et de la robotique à travers des activités concrètes et interactives.\nIls apprennent comment fonctionnent les algorithmes\, comment un robot peut être programmé et comment les machines peuvent analyser des données ou prendre des décisions.  \nÀ travers des expérimentations et de petits projets\, les participants développent leur logique\, leur créativité et leur compréhension des technologies qui façonnent le monde de demain. Un atelier passionnant pour explorer les métiers du futur. 
URL:https://apprends-et-reve.fr/activite/%f0%9f%a4%96-intelligence-artificielle-robotique-pour-les-ados-2/
LOCATION:Apprends et rêve\, 69\, rue de l’Assomption\, Paris\, 75016\, France
CATEGORIES:Informatique et numérique,Robotique
ATTACH;FMTTYPE=image/jpeg:https://apprends-et-reve.fr/wp-content/uploads/2026/03/robotique.jpeg
GEO:48.8536915;2.2782619
X-APPLE-STRUCTURED-LOCATION;VALUE=URI;X-ADDRESS=Apprends et rêve 69 rue de l’Assomption Paris 75016 France;X-APPLE-RADIUS=500;X-TITLE=69\, rue de l’Assomption:geo:2.2782619,48.8536915
END:VEVENT
END:VCALENDAR