

BEGIN:VCALENDAR
VERSION:2.0
PRODID:-//Apprends et Rêve - ECPv6.15.20//NONSGML v1.0//EN
CALSCALE:GREGORIAN
METHOD:PUBLISH
X-WR-CALNAME:Apprends et Rêve
X-ORIGINAL-URL:https://apprends-et-reve.fr
X-WR-CALDESC:Évènements pour Apprends et Rêve
REFRESH-INTERVAL;VALUE=DURATION:PT1H
X-Robots-Tag:noindex
X-PUBLISHED-TTL:PT1H
BEGIN:VTIMEZONE
TZID:Europe/Paris
BEGIN:DAYLIGHT
TZOFFSETFROM:+0100
TZOFFSETTO:+0200
TZNAME:CEST
DTSTART:20230326T010000
END:DAYLIGHT
BEGIN:STANDARD
TZOFFSETFROM:+0200
TZOFFSETTO:+0100
TZNAME:CET
DTSTART:20231029T010000
END:STANDARD
BEGIN:DAYLIGHT
TZOFFSETFROM:+0100
TZOFFSETTO:+0200
TZNAME:CEST
DTSTART:20240331T010000
END:DAYLIGHT
BEGIN:STANDARD
TZOFFSETFROM:+0200
TZOFFSETTO:+0100
TZNAME:CET
DTSTART:20241027T010000
END:STANDARD
BEGIN:DAYLIGHT
TZOFFSETFROM:+0100
TZOFFSETTO:+0200
TZNAME:CEST
DTSTART:20250330T010000
END:DAYLIGHT
BEGIN:STANDARD
TZOFFSETFROM:+0200
TZOFFSETTO:+0100
TZNAME:CET
DTSTART:20251026T010000
END:STANDARD
END:VTIMEZONE
BEGIN:VEVENT
DTSTART;TZID=Europe/Paris:20241113T160000
DTEND;TZID=Europe/Paris:20241113T173000
DTSTAMP:20260422T060938
CREATED:20230515T004151Z
LAST-MODIFIED:20240513T211139Z
UID:10015178-1731513600-1731519000@apprends-et-reve.fr
SUMMARY:Deviens un fin cordon bleu et fais-toi plaisir!
DESCRIPTION:Tu rêves de cuisiner le gâteau le meilleur et le plus beau que tu n’as jamais vu ? Ou bien de pouvoir faire de bons petits plats de temps en temps ? Tu as trouvé ton Graal.\nCar si cuisiner semble facile quand on ne le fait pas\, s’y mettre (et réussir) peut être une autre paire de manches !\nStéphanie\, diplômée de l’école Ferrandi (pâtisserie) et titulaire d’un diplôme de cuisine (salé) sauras t’apprendre les techniques\, te donner envie de cuisiner à nouveau\, t’apprendre des recettes simples\, faciles à refaire\, mais qui éblouissent les papilles.
URL:https://apprends-et-reve.fr/activite/deviens-un-fin-cordon-bleu-et-fais-toi-plaisir/2024-11-13/
LOCATION:Apprends et rêve\, 69\, rue de l’Assomption\, Paris\, 75016\, France
CATEGORIES:Cuisine
ATTACH;FMTTYPE=image/jpeg:https://apprends-et-reve.fr/wp-content/uploads/2023/05/kochen-fuer-anfaenger.jpg
GEO:48.8536915;2.2782619
X-APPLE-STRUCTURED-LOCATION;VALUE=URI;X-ADDRESS=Apprends et rêve 69 rue de l’Assomption Paris 75016 France;X-APPLE-RADIUS=500;X-TITLE=69\, rue de l’Assomption:geo:2.2782619,48.8536915
END:VEVENT
BEGIN:VEVENT
DTSTART;TZID=Europe/Paris:20241113T150000
DTEND;TZID=Europe/Paris:20241113T160000
DTSTAMP:20260422T060938
CREATED:20201127T103244Z
LAST-MODIFIED:20240513T205915Z
UID:10011784-1731510000-1731513600@apprends-et-reve.fr
SUMMARY:Améliorer sa technique de dessin -  Dessin académique confirmé
DESCRIPTION:Dessiner\, c’est savoir construire un dessin\, travailler les proportions. Cet atelier de dessin académique destiné aux confirmés permet d’améliorer et perfectionner sa maîtrise technique. \nLes séances permettront de développer l’observation\, le geste\, les proportions et donneront aux ados la base nécessaire. Les élèves approfondiront\, selon une méthode évolutive\, leurs techniques de la perspective\, le volume\, le portrait\, le corps\, les valeurs.
URL:https://apprends-et-reve.fr/activite/apprendre-a-dessiner-5/2024-11-13/
LOCATION:Apprends et rêve\, 69\, rue de l’Assomption\, Paris\, 75016\, France
CATEGORIES:Créativité,Dessin académique
ATTACH;FMTTYPE=image/png:https://apprends-et-reve.fr/wp-content/uploads/2020/06/6.png
GEO:48.8536915;2.2782619
X-APPLE-STRUCTURED-LOCATION;VALUE=URI;X-ADDRESS=Apprends et rêve 69 rue de l’Assomption Paris 75016 France;X-APPLE-RADIUS=500;X-TITLE=69\, rue de l’Assomption:geo:2.2782619,48.8536915
END:VEVENT
BEGIN:VEVENT
DTSTART;TZID=Europe/Paris:20241108T173000
DTEND;TZID=Europe/Paris:20241108T190000
DTSTAMP:20260422T060938
CREATED:20210421T101603Z
LAST-MODIFIED:20240514T075254Z
UID:10012615-1731087000-1731092400@apprends-et-reve.fr
SUMMARY:Deviens mangaka!
DESCRIPTION:Avec cet atelier hebdomadaire\, les adolescents apprendront toutes les techniques et les étapes pour dessiner et scénariser un manga.\nComment esquisser un visage ? Comment créer le mouvement ? Et la perspective ? Le Manga n’a rien à voir avec la BD ou le dessin académique. Styliser son dessin et imaginer sa propre histoire nécessite certaines connaissances et astuces.
URL:https://apprends-et-reve.fr/activite/deviens-mangaka-4/2024-11-08/
LOCATION:Apprends et rêve\, 69\, rue de l’Assomption\, Paris\, 75016\, France
CATEGORIES:Créativité,Manga
ATTACH;FMTTYPE=image/jpeg:https://apprends-et-reve.fr/wp-content/uploads/2021/03/Mangaka.jpg
GEO:48.8536915;2.2782619
X-APPLE-STRUCTURED-LOCATION;VALUE=URI;X-ADDRESS=Apprends et rêve 69 rue de l’Assomption Paris 75016 France;X-APPLE-RADIUS=500;X-TITLE=69\, rue de l’Assomption:geo:2.2782619,48.8536915
END:VEVENT
BEGIN:VEVENT
DTSTART;TZID=Europe/Paris:20241106T184500
DTEND;TZID=Europe/Paris:20241106T201500
DTSTAMP:20260422T060938
CREATED:20201124T154424Z
LAST-MODIFIED:20240513T215215Z
UID:10011181-1730918700-1730924100@apprends-et-reve.fr
SUMMARY:Théâtre: Jouer et vivre\, la réponse aux aspirations des ados
DESCRIPTION:Jouer une scène de théâtre\,  cela semble si facile\, sauf quand vient son tour et qu’il s’agit d’exprimer des émotions\, de restituer les paroles d’un autre. Finalement\, de devenir cet autre\, le temps d’une pièce\, d’un sketch. \nAvec cet atelier\, les adolescents vont apprendre à occuper l’espace\, à poser leur voix et à interagir avec les autres. \nEnsuite\, ils pourront\, grâce à des sketchs\, puis des scènes ou extrait de scènes\, incarner des personnages divers et variés.\nEt enfin\, ils participeront tous ensemble à la création d’une pièce où chacun tiendra « Son » rôle.
URL:https://apprends-et-reve.fr/activite/jouer-et-vivre/2024-11-06/
LOCATION:Apprends et rêve\, 69\, rue de l’Assomption\, Paris\, 75016\, France
CATEGORIES:Théâtre
ATTACH;FMTTYPE=image/jpeg:https://apprends-et-reve.fr/wp-content/uploads/2020/11/Theatre-ados-Depositphotos_172856816_s-2019.jpg
GEO:48.8536915;2.2782619
X-APPLE-STRUCTURED-LOCATION;VALUE=URI;X-ADDRESS=Apprends et rêve 69 rue de l’Assomption Paris 75016 France;X-APPLE-RADIUS=500;X-TITLE=69\, rue de l’Assomption:geo:2.2782619,48.8536915
END:VEVENT
BEGIN:VEVENT
DTSTART;TZID=Europe/Paris:20241106T173000
DTEND;TZID=Europe/Paris:20241106T190000
DTSTAMP:20260422T060938
CREATED:20201125T093206Z
LAST-MODIFIED:20260416T103728Z
UID:10009084-1730914200-1730919600@apprends-et-reve.fr
SUMMARY:Comédie musicale: du rêve à la scène\, pour les 8-12 ans
DESCRIPTION:ATELIER DESTINÉ AUX ENFANTS ET ADOS ÂGÉS DE 8 À 13 ANS – Musique\, chant\, théâtre et danse seront les fils rouge de ce cours. Danser\, chanter et jouer de manière simultanée\, mais aussi raconter une histoire. Les enfants apprennent une chorégraphie\, mais surtout à danser et chanter ensemble. Tous en même temps interprétant la même partition\, dansant la même chorégraphie et racontant la même histoire. Telle est la force de la comédie musicale. \nIls seront pour cela entourés et dirigés par trois grands professionnels de la musique et du théâtre qui\, pour la première fois\, enseignent ensemble dans le 16ème arrondissement de Paris : Stephy Haik\, professeur de chant\, Marianna Granci\, professeur de théâtre et Tim Path\, pianiste et professeur de danse.
URL:https://apprends-et-reve.fr/activite/du-reve-a-la-scene-3/2024-11-06/
LOCATION:Apprends et rêve\, 69\, rue de l’Assomption\, Paris\, 75016\, France
CATEGORIES:Comédie musicale,Danse,Musique / son,Théâtre
ATTACH;FMTTYPE=image/jpeg:https://apprends-et-reve.fr/wp-content/uploads/2017/01/Gala-2016-360-scaled.jpg
GEO:48.8536915;2.2782619
X-APPLE-STRUCTURED-LOCATION;VALUE=URI;X-ADDRESS=Apprends et rêve 69 rue de l’Assomption Paris 75016 France;X-APPLE-RADIUS=500;X-TITLE=69\, rue de l’Assomption:geo:2.2782619,48.8536915
END:VEVENT
BEGIN:VEVENT
DTSTART;TZID=Europe/Paris:20241106T171500
DTEND;TZID=Europe/Paris:20241106T183000
DTSTAMP:20260422T060938
CREATED:20201203T101606Z
LAST-MODIFIED:20240513T214006Z
UID:10012029-1730913300-1730917800@apprends-et-reve.fr
SUMMARY:Être créatif\, c'est tout un art!
DESCRIPTION:Pour certains artistes contemporains\, ne pas savoir dessiner est un plus. Il permet à la créativité de s’exprimer plus librement et complètement. Avec l’atelier arts plastiques\, les adolescents ne vont pas apprendre à dessiner mais à laisser voguer leur imagination. Ils vont apprendre à travailler des matériaux aussi divers que la terre\, le fil de fer\, le tissu\, le carton\, le papier\, de la mosaïque\, la laine\, la mousse expansive… \nIls utiliseront crayons papier\, crayons de couleur\, feutres\, peinture. Ils découperont\, colleront\, agraferont\, plieront… Ils créeront des histoires\, feront des romans-photos\, des films\, des installations\, mêlant musique\, histoire\, images. Les ados seront des artistes à part entière.
URL:https://apprends-et-reve.fr/activite/laisser-sexprimer-sa-creativite-6/2024-11-06/
LOCATION:Apprends et rêve\, 69\, rue de l’Assomption\, Paris\, 75016\, France
CATEGORIES:Arts plastiques / créativité,Musique / son
ATTACH;FMTTYPE=image/jpeg:https://apprends-et-reve.fr/wp-content/uploads/2019/04/Art-Plastiques-HD-4-scaled.jpg
GEO:48.8536915;2.2782619
X-APPLE-STRUCTURED-LOCATION;VALUE=URI;X-ADDRESS=Apprends et rêve 69 rue de l’Assomption Paris 75016 France;X-APPLE-RADIUS=500;X-TITLE=69\, rue de l’Assomption:geo:2.2782619,48.8536915
END:VEVENT
END:VCALENDAR