

BEGIN:VCALENDAR
VERSION:2.0
PRODID:-//Apprends et Rêve - ECPv6.15.20//NONSGML v1.0//EN
CALSCALE:GREGORIAN
METHOD:PUBLISH
X-WR-CALNAME:Apprends et Rêve
X-ORIGINAL-URL:https://apprends-et-reve.fr
X-WR-CALDESC:Évènements pour Apprends et Rêve
REFRESH-INTERVAL;VALUE=DURATION:PT1H
X-Robots-Tag:noindex
X-PUBLISHED-TTL:PT1H
BEGIN:VTIMEZONE
TZID:Europe/Paris
BEGIN:DAYLIGHT
TZOFFSETFROM:+0100
TZOFFSETTO:+0200
TZNAME:CEST
DTSTART:20250330T010000
END:DAYLIGHT
BEGIN:STANDARD
TZOFFSETFROM:+0200
TZOFFSETTO:+0100
TZNAME:CET
DTSTART:20251026T010000
END:STANDARD
BEGIN:DAYLIGHT
TZOFFSETFROM:+0100
TZOFFSETTO:+0200
TZNAME:CEST
DTSTART:20260329T010000
END:DAYLIGHT
BEGIN:STANDARD
TZOFFSETFROM:+0200
TZOFFSETTO:+0100
TZNAME:CET
DTSTART:20261025T010000
END:STANDARD
BEGIN:DAYLIGHT
TZOFFSETFROM:+0100
TZOFFSETTO:+0200
TZNAME:CEST
DTSTART:20270328T010000
END:DAYLIGHT
BEGIN:STANDARD
TZOFFSETFROM:+0200
TZOFFSETTO:+0100
TZNAME:CET
DTSTART:20271031T010000
END:STANDARD
END:VTIMEZONE
BEGIN:VEVENT
DTSTART;TZID=Europe/Paris:20260615T093000
DTEND;TZID=Europe/Paris:20260619T123000
DTSTAMP:20260421T105705
CREATED:20250424T093042Z
LAST-MODIFIED:20260403T145409Z
UID:10015639-1781515800-1781872200@apprends-et-reve.fr
SUMMARY:🎙 Podcast : deviens journaliste et crée ton émission
DESCRIPTION:Et si les adolescents devenaient les créateurs de leur propre émission ?\nDans cet atelier\, ils découvrent les coulisses du journalisme et du podcast : choisir un sujet\, structurer leurs idées\, écrire\, enregistrer et donner vie à leur contenu.  \nÀ travers des exercices pratiques et un travail en groupe\, ils développent leur aisance à l’oral\, apprennent à captiver une audience et à s’exprimer avec clarté et confiance\, face à un micro comme devant un public.  \nIls s’initient également aux outils numériques et aux bases du montage pour créer leurs propres podcasts.\nUn atelier complet et stimulant pour apprendre à informer\, raconter et transmettre… comme de vrais journalistes !  \nGrâce à cet atelier\, les adolescents vont :\n• Apprendre à captiver un public avec un discours clair\, structuré et engageant\n• Gagner en aisance à l’oral et en confiance en eux\n• Savoir rechercher\, analyser et synthétiser des informations\n• Découvrir les bases de l’enregistrement et du montage audio\n• Créer leurs propres podcasts créatifs et interactifs 
URL:https://apprends-et-reve.fr/activite/podcast-deviens-journaliste-et-cree-ton-emission-de-radio-2/
LOCATION:Apprends et rêve\, 69\, rue de l’Assomption\, Paris\, 75016\, France
CATEGORIES:Informatique et numérique,Musique / son
ATTACH;FMTTYPE=image/jpeg:https://apprends-et-reve.fr/wp-content/uploads/2025/04/Podcast-Depositphotos_627839958_S.jpg
GEO:48.8536915;2.2782619
X-APPLE-STRUCTURED-LOCATION;VALUE=URI;X-ADDRESS=Apprends et rêve 69 rue de l’Assomption Paris 75016 France;X-APPLE-RADIUS=500;X-TITLE=69\, rue de l’Assomption:geo:2.2782619,48.8536915
END:VEVENT
BEGIN:VEVENT
DTSTART;TZID=Europe/Paris:20260615T133000
DTEND;TZID=Europe/Paris:20260619T160000
DTSTAMP:20260421T105705
CREATED:20260403T112645Z
LAST-MODIFIED:20260403T112645Z
UID:10022017-1781530200-1781884800@apprends-et-reve.fr
SUMMARY:🔥 Boot Camp (challenges sportifs) : dépasse-toi !
DESCRIPTION:Au cours de ce stage\, nous emmènerons les ados au cœur de la nature\, dans le bois de Boulogne pour une (re)mise en forme tonique et ludique. Des équipes se challengeront autour de défis sportifs.  \nIls en profiteront pour travailler les abdos\, cuisses\, fessiers mais aussi leurs biceps… le tout grâce à des jeux qui les verront se muscler (presque) sans s’en rendre compte.  \nL’esprit d’équipe ou comment réussir ensemble sera également au centre de ce stage.  \nSous l’égide d’un coach sportif\, les ados exploreront et dépasseront leurs limites. 
URL:https://apprends-et-reve.fr/activite/%f0%9f%94%a5-boot-camp-challenges-sportifs-depasse-toi/
LOCATION:Apprends et rêve\, 69\, rue de l’Assomption\, Paris\, 75016\, France
CATEGORIES:Activité physique / sportive
ATTACH;FMTTYPE=image/webp:https://apprends-et-reve.fr/wp-content/uploads/2026/04/boot-camp.jpg.webp
GEO:48.8536915;2.2782619
X-APPLE-STRUCTURED-LOCATION;VALUE=URI;X-ADDRESS=Apprends et rêve 69 rue de l’Assomption Paris 75016 France;X-APPLE-RADIUS=500;X-TITLE=69\, rue de l’Assomption:geo:2.2782619,48.8536915
END:VEVENT
END:VCALENDAR