

BEGIN:VCALENDAR
VERSION:2.0
PRODID:-//Apprends et Rêve - ECPv6.15.20//NONSGML v1.0//EN
CALSCALE:GREGORIAN
METHOD:PUBLISH
X-WR-CALNAME:Apprends et Rêve
X-ORIGINAL-URL:https://apprends-et-reve.fr
X-WR-CALDESC:Évènements pour Apprends et Rêve
REFRESH-INTERVAL;VALUE=DURATION:PT1H
X-Robots-Tag:noindex
X-PUBLISHED-TTL:PT1H
BEGIN:VTIMEZONE
TZID:Europe/Paris
BEGIN:DAYLIGHT
TZOFFSETFROM:+0100
TZOFFSETTO:+0200
TZNAME:CEST
DTSTART:20250330T010000
END:DAYLIGHT
BEGIN:STANDARD
TZOFFSETFROM:+0200
TZOFFSETTO:+0100
TZNAME:CET
DTSTART:20251026T010000
END:STANDARD
BEGIN:DAYLIGHT
TZOFFSETFROM:+0100
TZOFFSETTO:+0200
TZNAME:CEST
DTSTART:20260329T010000
END:DAYLIGHT
BEGIN:STANDARD
TZOFFSETFROM:+0200
TZOFFSETTO:+0100
TZNAME:CET
DTSTART:20261025T010000
END:STANDARD
BEGIN:DAYLIGHT
TZOFFSETFROM:+0100
TZOFFSETTO:+0200
TZNAME:CEST
DTSTART:20270328T010000
END:DAYLIGHT
BEGIN:STANDARD
TZOFFSETFROM:+0200
TZOFFSETTO:+0100
TZNAME:CET
DTSTART:20271031T010000
END:STANDARD
END:VTIMEZONE
BEGIN:VEVENT
DTSTART;TZID=Europe/Paris:20260824T133000
DTEND;TZID=Europe/Paris:20260828T153000
DTSTAMP:20260422T094400
CREATED:20260403T105530Z
LAST-MODIFIED:20260413T104102Z
UID:10022016-1787578200-1787931000@apprends-et-reve.fr
SUMMARY:💻 Python: maîtrise le logiciel et programme ton propre univers
DESCRIPTION:Apprendre à coder en Python devient un vrai jeu !\nDestiné aux adolescents déjà initiés\, ce stage permet d’approfondir les bases de la programmation à travers des projets concrets et ludiques.  \nÀ l’aide du module graphique Turtle\, ils créent des programmes visuels\, dessinent\, testent et expérimentent tout en comprenant les notions essentielles du langage : variables\, boucles\, fonctions…  \nEt pourquoi ne pas coder un programme pour calculer le coût d’un voyage spatial ?\nUn atelier stimulant pour développer logique\, créativité et autonomie\, tout en s’amusant avec le code. 
URL:https://apprends-et-reve.fr/activite/%f0%9f%92%bb-codage-informatique-python-programme-ton-propre-univers-pendant-lete/
LOCATION:Apprends et rêve\, 69\, rue de l’Assomption\, Paris\, 75016\, France
CATEGORIES:Codage,Informatique et numérique
ATTACH;FMTTYPE=image/webp:https://apprends-et-reve.fr/wp-content/uploads/2026/04/python.jpg.webp
GEO:48.8536915;2.2782619
X-APPLE-STRUCTURED-LOCATION;VALUE=URI;X-ADDRESS=Apprends et rêve 69 rue de l’Assomption Paris 75016 France;X-APPLE-RADIUS=500;X-TITLE=69\, rue de l’Assomption:geo:2.2782619,48.8536915
END:VEVENT
BEGIN:VEVENT
DTSTART;TZID=Europe/Paris:20260824T133000
DTEND;TZID=Europe/Paris:20260828T160000
DTSTAMP:20260422T094400
CREATED:20260403T130832Z
LAST-MODIFIED:20260409T094658Z
UID:10022026-1787578200-1787932800@apprends-et-reve.fr
SUMMARY:🏗️ Deviens designer et architecte !
DESCRIPTION:Cette semaine\, vos ados passent de l’idée à la création ! Guidés par un professeur expert\, ils imagineront et dessineront sur ordinateur la maison\, l’appartement ou la façade de leurs rêves grâce à un logiciel de design professionnel. Chacun pourra exprimer sa créativité librement\, et même collaborer sur un projet collectif\, comme un village miniature.  \nPour finir\, ils repartiront avec une œuvre unique\, fruit de leur imagination et de leur savoir-faire. 
URL:https://apprends-et-reve.fr/activite/deviens-designer-et-architecte-4/
LOCATION:Apprends et rêve\, 69\, rue de l’Assomption\, Paris\, 75016\, France
CATEGORIES:Créativité
ATTACH;FMTTYPE=image/jpeg:https://apprends-et-reve.fr/wp-content/uploads/2025/04/design.jpeg
GEO:48.8536915;2.2782619
X-APPLE-STRUCTURED-LOCATION;VALUE=URI;X-ADDRESS=Apprends et rêve 69 rue de l’Assomption Paris 75016 France;X-APPLE-RADIUS=500;X-TITLE=69\, rue de l’Assomption:geo:2.2782619,48.8536915
END:VEVENT
BEGIN:VEVENT
DTSTART;TZID=Europe/Paris:20260824T133000
DTEND;TZID=Europe/Paris:20260828T163000
DTSTAMP:20260422T094400
CREATED:20250429T061508Z
LAST-MODIFIED:20260413T105016Z
UID:10015752-1787578200-1787934600@apprends-et-reve.fr
SUMMARY:🎭🇬🇧 Théâtre en anglais : prepared to return to school
DESCRIPTION:Et si reprendre l’anglais avant la rentrée devenait un moment fun et motivant ?\nÀ travers le théâtre\, les adolescents retravaillent leur aisance à l’oral\, leur prononciation et leur compréhension dans un cadre dynamique et bienveillant.  \nEncadrés par des professeurs comédiens anglophones\, ils participent à des jeux d’expression\, des improvisations et des scènes en anglais pour oser parler\, se tromper et progresser.  \nUn atelier idéal pour reprendre confiance\, enrichir son vocabulaire et retrouver des automatismes avant la reprise des cours.\nEn fin de stage\, une courte vidéo de leur performance pourra être partagée avec les familles. 
URL:https://apprends-et-reve.fr/activite/apprendre-a-dessiner-un-animal-comme-un-pro-theatre-3/
LOCATION:Apprends et rêve\, 69\, rue de l’Assomption\, Paris\, 75016\, France
CATEGORIES:Anglais,Théâtre en anglais
ATTACH;FMTTYPE=image/jpeg:https://apprends-et-reve.fr/wp-content/uploads/2025/04/theatre-en-anglais.jpg
GEO:48.8536915;2.2782619
X-APPLE-STRUCTURED-LOCATION;VALUE=URI;X-ADDRESS=Apprends et rêve 69 rue de l’Assomption Paris 75016 France;X-APPLE-RADIUS=500;X-TITLE=69\, rue de l’Assomption:geo:2.2782619,48.8536915
END:VEVENT
BEGIN:VEVENT
DTSTART;TZID=Europe/Paris:20260826T133000
DTEND;TZID=Europe/Paris:20260826T160000
DTSTAMP:20260422T094400
CREATED:20260413T100137Z
LAST-MODIFIED:20260413T100137Z
UID:10022057-1787751000-1787760000@apprends-et-reve.fr
SUMMARY:🍰 Cuisine & pâtisserie : une demi-journée pour créer et se régaler !
DESCRIPTION:Tu rêves de préparer un gâteau aussi beau que délicieux ? Ou d’apprendre à cuisiner de bons petits plats faciles à refaire chez toi ? Ce stage est fait pour toi !  \nEn cuisine\, il ne suffit pas de suivre une recette : il faut aussi connaître les bons gestes et les bonnes techniques. Pendant 2h30\, Alexandra ou Elodie\, nos professeures formées à la pâtisserie et à la cuisine\, partageront leur savoir-faire et leurs astuces pour guider les enfants pas à pas.  \nAu programme : la réalisation d’un plat salé ou d’une gourmandise sucrée\, des recettes simples et savoureuses\, et surtout le plaisir de cuisiner… avec l’envie de recommencer à la maison ! 
URL:https://apprends-et-reve.fr/activite/%f0%9f%8d%b0-cuisine-patisserie-une-demi-journee-pour-creer-et-se-regaler-2/2026-08-26/
LOCATION:Apprends et rêve\, 69\, rue de l’Assomption\, Paris\, 75016\, France
CATEGORIES:Cuisine
ATTACH;FMTTYPE=image/png:https://apprends-et-reve.fr/wp-content/uploads/2026/04/stage-de-cuisine-et-patisserie-pour-les-ados-2h-13-16-ans-paris-16e-4712.png
GEO:48.8536915;2.2782619
X-APPLE-STRUCTURED-LOCATION;VALUE=URI;X-ADDRESS=Apprends et rêve 69 rue de l’Assomption Paris 75016 France;X-APPLE-RADIUS=500;X-TITLE=69\, rue de l’Assomption:geo:2.2782619,48.8536915
END:VEVENT
BEGIN:VEVENT
DTSTART;TZID=Europe/Paris:20260827T133000
DTEND;TZID=Europe/Paris:20260827T160000
DTSTAMP:20260422T094400
CREATED:20260413T100137Z
LAST-MODIFIED:20260413T100137Z
UID:10022058-1787837400-1787846400@apprends-et-reve.fr
SUMMARY:🍰 Cuisine & pâtisserie : une demi-journée pour créer et se régaler !
DESCRIPTION:Tu rêves de préparer un gâteau aussi beau que délicieux ? Ou d’apprendre à cuisiner de bons petits plats faciles à refaire chez toi ? Ce stage est fait pour toi !  \nEn cuisine\, il ne suffit pas de suivre une recette : il faut aussi connaître les bons gestes et les bonnes techniques. Pendant 2h30\, Alexandra ou Elodie\, nos professeures formées à la pâtisserie et à la cuisine\, partageront leur savoir-faire et leurs astuces pour guider les enfants pas à pas.  \nAu programme : la réalisation d’un plat salé ou d’une gourmandise sucrée\, des recettes simples et savoureuses\, et surtout le plaisir de cuisiner… avec l’envie de recommencer à la maison ! 
URL:https://apprends-et-reve.fr/activite/%f0%9f%8d%b0-cuisine-patisserie-une-demi-journee-pour-creer-et-se-regaler-2/2026-08-27/
LOCATION:Apprends et rêve\, 69\, rue de l’Assomption\, Paris\, 75016\, France
CATEGORIES:Cuisine
ATTACH;FMTTYPE=image/png:https://apprends-et-reve.fr/wp-content/uploads/2026/04/stage-de-cuisine-et-patisserie-pour-les-ados-2h-13-16-ans-paris-16e-4712.png
GEO:48.8536915;2.2782619
X-APPLE-STRUCTURED-LOCATION;VALUE=URI;X-ADDRESS=Apprends et rêve 69 rue de l’Assomption Paris 75016 France;X-APPLE-RADIUS=500;X-TITLE=69\, rue de l’Assomption:geo:2.2782619,48.8536915
END:VEVENT
END:VCALENDAR